BEGIN:VCALENDAR
VERSION:2.0
PRODID:-//wp-events-plugin.com//7.2.3.1//EN
TZID:Australia/Sydney
X-WR-TIMEZONE:Australia/Sydney
BEGIN:VEVENT
UID:3454@unswoc.org
DTSTART;TZID=Australia/Sydney;VALUE=DATE:20240727
DTEND;TZID=Australia/Sydney;VALUE=DATE:20240728
DTSTAMP:20240723T111314Z
URL:https://unswoc.org/wordpress/events/bp-saturday-beginner-grill-cave/
SUMMARY:[BP] SATURDAY Beginner - Grill Cave [FULL]
DESCRIPTION:\n\n\n\n\n\n\n\nSIGNUPS WILL OPEN UP AT 9PM MONDAY 15/07\n\nSig
 n up for ONE Saturday and ONE Sunday trip. If you do not get accepted o
 n your first choice trip then you may sign up for a different one. (Same f
 ormat as Boree Log!). You must be signed up to the main event to sign up t
 o individual trips\n\n\n\n\n\n\n\n\n\nGrill Cave is a beginner friendly\, 
 tourist like cave. You'll get to wander through it's maze like caverns\, c
 lamber over ladders\, and go for a muddy slip and slide. This is a great p
 lace to begin for those who have never been caving before - no need to wor
 ry about claustrophobia! There will be a bit of scrambling and climbing\, 
 and some cave features to see!\n\n\n\n\n\n\n\n\n\n\n\nWhat YOU need:\n\n 	
 Helmet*\n 	Headlight and spare batteries\n 	Spare light source + spare bat
 teries (a malfunction of primary light would be quite inconvenient)\n 	Sho
 es you're not afraid to get muddy / dirty\n 	Thermal top &amp\; thermal bo
 ttoms\n 	Small bottle of water\n 	Personal medications (epipen\, inhaler e
 tc)\n 	Dry bag\n 	Snacks / small lunch\n 	Old shirt / pants / overalls you
  can wear inside the cave\n 	Small backpack to carry your things\n 	Gloves
  (eg gardening gloves) - optional but highly recommended\n 	Soft knee pads
  - optional\n\n*These can be borrowed from the club on the morning of\n\n\
 n\nWhen signing up for this trip\, please make sure to include a) any prev
 ious caving or climbing / bouldering experience\, and b) what gear you wil
 l need to borrow and c) what your favourite snack is!
CATEGORIES:Caving
LOCATION:https://g.co/kgs/KAPVV9D
END:VEVENT
BEGIN:VTIMEZONE
TZID:Australia/Sydney
X-LIC-LOCATION:Australia/Sydney
BEGIN:STANDARD
DTSTART:20240407T020000
TZOFFSETFROM:+1100
TZOFFSETTO:+1000
TZNAME:AEST
END:STANDARD
END:VTIMEZONE
END:VCALENDAR