BEGIN:VCALENDAR
VERSION:2.0
PRODID:-//wp-events-plugin.com//7.2.3.1//EN
TZID:Australia/Sydney
X-WR-TIMEZONE:Australia/Sydney
BEGIN:VEVENT
UID:3445@unswoc.org
DTSTART;TZID=Australia/Sydney;VALUE=DATE:20240727
DTEND;TZID=Australia/Sydney;VALUE=DATE:20240728
DTSTAMP:20240723T100802Z
URL:https://unswoc.org/wordpress/events/bp-saturday-advanced-argyle-cave/
SUMMARY:[BP] SATURDAY ADVANCED - ARGYLE CAVE FULL
DESCRIPTION:\n\n\n\n\n\n&nbsp\;\n\nSIGNUPS WILL OPEN UP AT 9PM MONDAY 15/07
 \n\nSign up for ONE Saturday and ONE Sunday trip. If you do not get acc
 epted on your first choice trip then you may sign up for a different one. 
 (Same format as Boree Log!). You must be signed up to the main event to si
 gn up to individual trips\n\n\n\n\n\n\n\nArgyle is a cave that has it all!
  Descending and ascending skills a must\, as well as being comfortable wit
 h some squeezes.\n\nStart out testing your squeeze skills by slithering th
 rough the 20cm tall flattener. Climb down the corkscrew and then get back 
 on your belly to wiggle through to the first 13m pitch. Continue on throug
 h the roundabout or begin your descent down multiple pitches and if you’
 re lucky you’ll hit the mystical lake in the sump. Then it’s time to a
 scend all the way back up about 70m total and reverse your journey in.\n\n
 \n\n\n\nWhat YOU need:\n\n 	Helmet*\n 	Harness*\n 	Descender* - Inline (eg
  rap rack\, Petzl Stop) preferred*\n 	Chest Ascender*\n 	Hand Ascender*\n 
 	Safety Sling* (x3 if you don't have a chest harness and foot loop)\n 	Pru
 siks*\n 	At least 6 locking carabiners*\n 	Headlight and spare batteries\n
  	Spare light source + spare batteries (a malfunction of primary light wou
 ld be quite inconvenient)\n 	Shoes you're not afraid to get muddy / dirty\
 n 	Thermal top &amp\; thermal bottoms\n 	Small bottle of water\n 	Personal
  medications (epipen\, inhaler etc)\n 	Dry bag\n 	Snacks / small lunch\n 	
 Old shirt / pants / overalls you can wear inside the cave\n 	Small backpac
 k to carry your things\n 	Gloves (eg gardening gloves) - optional\n 	Soft 
 knee pads - optional\n\n*These can be borrowed from the club on the mornin
 g of\n\n\n\nArgyle Cave is an advanced caving trip\, where vertical rope s
 kills is a must. Expect it to be a long day! When signing up for this trip
 \, please make sure to include a) any previous abseiling and ascending exp
 erience\, and b) what gear you will need to borrow and c) what your favou
 rite snack is!
CATEGORIES:Caving
LOCATION:https://g.co/kgs/KAPVV9D
END:VEVENT
BEGIN:VTIMEZONE
TZID:Australia/Sydney
X-LIC-LOCATION:Australia/Sydney
BEGIN:STANDARD
DTSTART:20240407T020000
TZOFFSETFROM:+1100
TZOFFSETTO:+1000
TZNAME:AEST
END:STANDARD
END:VTIMEZONE
END:VCALENDAR