BEGIN:VCALENDAR
VERSION:2.0
PRODID:-//wp-events-plugin.com//7.2.3.1//EN
TZID:Australia/Sydney
X-WR-TIMEZONE:Australia/Sydney
BEGIN:VEVENT
UID:3277@unswoc.org
DTSTART;TZID=Australia/Sydney;VALUE=DATE:20230709
DTEND;TZID=Australia/Sydney;VALUE=DATE:20230710
DTSTAMP:20230623T063345Z
URL:https://unswoc.org/wordpress/events/bp-onlysunday-white-track-hike/
SUMMARY:~BP ONLY~SUNDAY~ White Track Hike
DESCRIPTION:A 6.8km day hike taking you past stunning lookouts and and alon
 g the Shoalhaven River. A great option after you do a big cave or canyon t
 hen party Saturday night.\n\n&nbsp\;\n\nBeginner - anyone can come.\n\n&nb
 sp\;\n\nRun by Dion
END:VEVENT
BEGIN:VTIMEZONE
TZID:Australia/Sydney
X-LIC-LOCATION:Australia/Sydney
BEGIN:STANDARD
DTSTART:20230402T020000
TZOFFSETFROM:+1100
TZOFFSETTO:+1000
TZNAME:AEST
END:STANDARD
END:VTIMEZONE
END:VCALENDAR