BEGIN:VCALENDAR
VERSION:2.0
PRODID:-//wp-events-plugin.com//7.2.3.1//EN
TZID:Australia/Sydney
X-WR-TIMEZONE:Australia/Sydney
BEGIN:VEVENT
UID:3278@unswoc.org
DTSTART;TZID=Australia/Sydney;VALUE=DATE:20230709
DTEND;TZID=Australia/Sydney;VALUE=DATE:20230710
DTSTAMP:20230627T130015Z
URL:https://unswoc.org/wordpress/events/bp-onlysunday-jerrara-creek-canyon
 /
SUMMARY:~BP ONLY~SUNDAY~ Jerrara Creek Canyon
DESCRIPTION:A beautiful canyon for those who enjoy seeing the sky. Abseil p
 ast big waterfalls and trek out through the Bungonia National Park. Best o
 f all\, no rope ascending!\n\n\n\nThis canyon is a very long day\, we will
  start before sunrise and end after sunset\, expect for it to take 11+ hrs
 .\n\nPlease be aware of the following dangers before attending the trip: 
 \nLoose rock\, possibility of rockfall\n\nScrambling over loose and wet ro
 ck\n\nLong swims (30m+) and full emersion in cold water\n\nAbseiling in wa
 ter flow with possibility of aquatic hazards (Weather dependent)\n\nMultip
 itch abseil with total height of 90m\, including slab rebelay\n\nCreek wal
 king along rough slippery terrain\n\nSteep ascents and descents on Grade 5
  track after sunset\n\nOptional rock jumps into water up to 10m\n\n&nbsp\;
 \nGear\nGear must be brought with you to Bungonia Palooza\, no gear is sup
 plied on the weekend. If you need gear\, borrow from a gear night beforeha
 nd.\n\n 	Canyoning Harness*\n 	Helmet*\n 	Seland Wetsuit (4mm+) *\n 	3x lo
 cking carabiner*\n 	1x prussik (Used as a third hand)\n 	1x figure 8* or o
 ther canyoning descender – e.g. critter\, squirrel. (ATCs and racks are 
 not accepted)\n 	1x safety (a 120cm sling is acceptable)\n 	1x large dryba
 g*\n 	Emergency blanket (can be purchased from the gear cupboard\, most ou
 tdoor stores\, and pharmacies for $5-10)\n 	Canyoning Backpack (If you don
 't have one try get from club)\n 	Clothing –\n\n 	Enclosed shoes with go
 od grip (e.g. old sneakers)\n 	Dry and sun-safe clothes to hike in/out of 
 the canyon in\n 	Thick socks / neoprene socks\n 	Light raincoat that is ok
  to get wet\n 	Thermal top and bottoms\, jumper &amp\; beanie (e.g. enough
  clothing to keep warm in a canyon overnight in an emergency)\n 	Optional:
  swimmers to put under your wetsuit\, microfibre towel\n 	DO NOT BRING COT
 TON CLOTHING.\n\n\n\n\n 	Food –\n\n 	1.5L of water in bottles (more if i
 t’s hot)\n 	Substantial lunch (pack it in a waterproof container\, and m
 ake sure it’s vaguely crush-proof)\n 	Snacks\n\n\n 	Any personal medicin
 e (asthma puffer\, Epipen etc)\n\n&nbsp\;\n\n&nbsp\;\n\nIntermediate - sup
 er keen people with rope experience who are okay with being a bit cold.\n\
 n\n\n&nbsp\;\n\nRun by Lucas and Alfie
END:VEVENT
BEGIN:VTIMEZONE
TZID:Australia/Sydney
X-LIC-LOCATION:Australia/Sydney
BEGIN:STANDARD
DTSTART:20230402T020000
TZOFFSETFROM:+1100
TZOFFSETTO:+1000
TZNAME:AEST
END:STANDARD
END:VTIMEZONE
END:VCALENDAR