BEGIN:VCALENDAR
VERSION:2.0
PRODID:-//wp-events-plugin.com//7.2.3.1//EN
TZID:Australia/Sydney
X-WR-TIMEZONE:Australia/Sydney
BEGIN:VEVENT
UID:3276@unswoc.org
DTSTART;TZID=Australia/Sydney;VALUE=DATE:20230709
DTEND;TZID=Australia/Sydney;VALUE=DATE:20230710
DTSTAMP:20230623T073511Z
URL:https://unswoc.org/wordpress/events/bp-onlysunday-grill-cave/
SUMMARY:~BP ONLY~SUNDAY~ Grill Cave +
DESCRIPTION:You need to be approved for the main Bungonia Palooza event to 
 attend this trip\nGrill is a pretty cave with lots of ladders and caverns 
 filled with stalacmites and stalactites. If time allows\, there will be ad
 ditional fun caves to explore!\n\n[caption id="attachment_15185" align="al
 ignnone" width="769"] getting down and dirty[/caption]\n\nBeginner - anyon
 e fit can come.\n\n&nbsp\;\n\nRun by Maddi and Linna
CATEGORIES:Caving
END:VEVENT
BEGIN:VTIMEZONE
TZID:Australia/Sydney
X-LIC-LOCATION:Australia/Sydney
BEGIN:STANDARD
DTSTART:20230402T020000
TZOFFSETFROM:+1100
TZOFFSETTO:+1000
TZNAME:AEST
END:STANDARD
END:VTIMEZONE
END:VCALENDAR