BEGIN:VCALENDAR
VERSION:2.0
PRODID:-//wp-events-plugin.com//7.2.3.1//EN
TZID:Australia/Sydney
X-WR-TIMEZONE:Australia/Sydney
BEGIN:VEVENT
UID:3275@unswoc.org
DTSTART;TZID=Australia/Sydney;VALUE=DATE:20230709
DTEND;TZID=Australia/Sydney;VALUE=DATE:20230710
DTSTAMP:20230623T002755Z
URL:https://unswoc.org/wordpress/events/bp-onlysunday-cave-exploration/
SUMMARY:~BP ONLY~SUNDAY~ Cave Exploration
DESCRIPTION:You'll never know what caves you could find. Come jump into a v
 ariety of holes with varying levels of difficulty and technicality. Abseil
 ing and jumarring (rope ascending) guaranteed!\n\nIntermediate - people wi
 th rope experience preferred\n\n&nbsp\;\n\nRun by Jonah and Liam
END:VEVENT
BEGIN:VTIMEZONE
TZID:Australia/Sydney
X-LIC-LOCATION:Australia/Sydney
BEGIN:STANDARD
DTSTART:20230402T020000
TZOFFSETFROM:+1100
TZOFFSETTO:+1000
TZNAME:AEST
END:STANDARD
END:VTIMEZONE
END:VCALENDAR