BEGIN:VCALENDAR
VERSION:2.0
PRODID:-//wp-events-plugin.com//7.2.3.1//EN
TZID:Australia/Sydney
X-WR-TIMEZONE:Australia/Sydney
BEGIN:VEVENT
UID:3282@unswoc.org
DTSTART;TZID=Australia/Sydney;VALUE=DATE:20230708
DTEND;TZID=Australia/Sydney;VALUE=DATE:20230709
DTSTAMP:20230623T073646Z
URL:https://unswoc.org/wordpress/events/bp-onlysaturday-climbing/
SUMMARY:~BP ONLY~SATURDAY~ Climbing
DESCRIPTION:You need to be approved for the main Bungonia Palooza event to 
 attend this trip\nDid you know there aren't just caves in Bungonia? A shor
 t stroll away are some beautiful limestone cliffs! On the Saturday of Bung
 onia Palooza we'll be heading to a lovely little area called Reflux Crag a
 bove the Gorge. Single pitch sports climb close to the carpark with routes
  varying from grade 14-24.\n\n[caption id="" align="alignnone" width="1200
 "] Photo courtesy of theCrag[/caption]\n\nAnyone keen is welcome! Please c
 omment your climbing experience\, whether you can lead climb and lead bela
 y.\n\nHope to see you there :)\n\nRun by Lucas and Linna
CATEGORIES:Climbing,Outdoor Climbing
END:VEVENT
BEGIN:VTIMEZONE
TZID:Australia/Sydney
X-LIC-LOCATION:Australia/Sydney
BEGIN:STANDARD
DTSTART:20230402T020000
TZOFFSETFROM:+1100
TZOFFSETTO:+1000
TZNAME:AEST
END:STANDARD
END:VTIMEZONE
END:VCALENDAR