BEGIN:VCALENDAR
VERSION:2.0
PRODID:-//wp-events-plugin.com//7.2.3.1//EN
TZID:Australia/Sydney
X-WR-TIMEZONE:Australia/Sydney
BEGIN:VEVENT
UID:3279@unswoc.org
DTSTART;TZID=Australia/Sydney;VALUE=DATE:20230708
DTEND;TZID=Australia/Sydney;VALUE=DATE:20230709
DTSTAMP:20230629T042703Z
URL:https://unswoc.org/wordpress/events/bp-onlysaturday-bungonia-creek-can
 yon/
SUMMARY:~BP ONLY~SATURDAY~ Bungonia Creek Canyon
DESCRIPTION:A beautiful canyon for those who enjoy big drops and seeing the
  sky. Abseil past big waterfalls and trek out through the Bungonia Nationa
 l Park. Best of all\, no rope ascending!\n\n&nbsp\;\n\nIntermediate - supe
 r keen people with or without rope experience who are okay with being a bi
 t cold.\n\n&nbsp\;\n\nRun by Maddi and Brendan
END:VEVENT
BEGIN:VTIMEZONE
TZID:Australia/Sydney
X-LIC-LOCATION:Australia/Sydney
BEGIN:STANDARD
DTSTART:20230402T020000
TZOFFSETFROM:+1100
TZOFFSETTO:+1000
TZNAME:AEST
END:STANDARD
END:VTIMEZONE
END:VCALENDAR