BEGIN:VCALENDAR
VERSION:2.0
PRODID:-//wp-events-plugin.com//7.2.3.1//EN
TZID:Australia/Sydney
X-WR-TIMEZONE:Australia/Sydney
BEGIN:VEVENT
UID:3281@unswoc.org
DTSTART;TZID=Australia/Sydney;VALUE=DATE:20230708
DTEND;TZID=Australia/Sydney;VALUE=DATE:20230709
DTSTAMP:20230629T041428Z
URL:https://unswoc.org/wordpress/events/bp-onlysaturday-b4-5-cave/
SUMMARY:~BP ONLY~SATURDAY~ B4-5 Cave
DESCRIPTION:A super fun horizontal (no abseils) cave in Bungonia. Very maze
 -like with lots of squeezes and small climbs and crossroads.\n\n&nbsp\;\n\
 nBeginner - anyone fit can come.\n\n&nbsp\;\n\nRun by Izzy
END:VEVENT
BEGIN:VTIMEZONE
TZID:Australia/Sydney
X-LIC-LOCATION:Australia/Sydney
BEGIN:STANDARD
DTSTART:20230402T020000
TZOFFSETFROM:+1100
TZOFFSETTO:+1000
TZNAME:AEST
END:STANDARD
END:VTIMEZONE
END:VCALENDAR