BEGIN:VCALENDAR
VERSION:2.0
PRODID:-//wp-events-plugin.com//7.2.3.1//EN
TZID:Australia/Sydney
X-WR-TIMEZONE:Australia/Sydney
BEGIN:VEVENT
UID:3280@unswoc.org
DTSTART;TZID=Australia/Sydney;VALUE=DATE:20230708
DTEND;TZID=Australia/Sydney;VALUE=DATE:20230709
DTSTAMP:20230623T111215Z
URL:https://unswoc.org/wordpress/events/bp-onlysaturday-argyle-cave/
SUMMARY:~BP ONLY~SATURDAY~ Argyle Cave
DESCRIPTION:One of the deepest and coolest caves in Bungonia with tonnes of
  abseils descending to the crystal-clear water table.\n\nAdvanced - people
  with rope ascending experience only.\n\n&nbsp\;\n\nRun by Jonah and Liam
END:VEVENT
BEGIN:VTIMEZONE
TZID:Australia/Sydney
X-LIC-LOCATION:Australia/Sydney
BEGIN:STANDARD
DTSTART:20230402T020000
TZOFFSETFROM:+1100
TZOFFSETTO:+1000
TZNAME:AEST
END:STANDARD
END:VTIMEZONE
END:VCALENDAR