BEGIN:VCALENDAR
VERSION:2.0
PRODID:-//wp-events-plugin.com//7.2.3.1//EN
TZID:Australia/Sydney
X-WR-TIMEZONE:Australia/Sydney
BEGIN:VEVENT
UID:3052@unswoc.org
DTSTART;TZID=Australia/Sydney:20220828T000000
DTEND;TZID=Australia/Sydney:20220828T000000
DTSTAMP:20220825T093147Z
URL:https://unswoc.org/wordpress/events/bp-only-spring-creek-canyon/
SUMMARY:BP ONLY - Long Gully Canyon
DESCRIPTION:~~~Sign ups only open to those already accepted on Bungonia Pal
 ooza~~~\n\n&nbsp\;\n\nAbseiling some damp waterfalls. I hear there's occas
 ionally an Angry Goat.\n\n&nbsp\;\n\nExpect some big drops and nice exposu
 re. It will be cold and wet! (or at least damp). Wetsuits mayyyyy be requi
 red depending on water levels on the day\n\n&nbsp\;\n\nIntermediate - peop
 le with rope experience preferred.
CATEGORIES:Caving
END:VEVENT
BEGIN:VTIMEZONE
TZID:Australia/Sydney
X-LIC-LOCATION:Australia/Sydney
BEGIN:STANDARD
DTSTART:20220403T020000
TZOFFSETFROM:+1100
TZOFFSETTO:+1000
TZNAME:AEST
END:STANDARD
END:VTIMEZONE
END:VCALENDAR