BEGIN:VCALENDAR
VERSION:2.0
PRODID:-//wp-events-plugin.com//7.2.3.1//EN
TZID:Australia/Sydney
X-WR-TIMEZONE:Australia/Sydney
BEGIN:VEVENT
UID:3039@unswoc.org
DTSTART;TZID=Australia/Sydney:20220827T000000
DTEND;TZID=Australia/Sydney:20220827T000000
DTSTAMP:20220806T062037Z
URL:https://unswoc.org/wordpress/events/bp-only-drum-cave/
SUMMARY:BP ONLY - Drum Cave
DESCRIPTION:~~~Sign ups only open to those already accepted on Bungonia Pal
 ooza~~~\n\n&nbsp\;\n\nOne of the biggest caves in Bungonia. Very technical
  with several pitches (4\, from memory?) up to 60m.\n\n&nbsp\;\n\nHighligh
 ts include bats\, a football pitch sized cavern deep in the cave\, and an 
 interesting bottom-up pitch.\n\n&nbsp\;\n\nAdvanced - people with rope asc
 ending experience only.
CATEGORIES:Caving
END:VEVENT
BEGIN:VTIMEZONE
TZID:Australia/Sydney
X-LIC-LOCATION:Australia/Sydney
BEGIN:STANDARD
DTSTART:20220403T020000
TZOFFSETFROM:+1100
TZOFFSETTO:+1000
TZNAME:AEST
END:STANDARD
END:VTIMEZONE
END:VCALENDAR