BEGIN:VCALENDAR
VERSION:2.0
PRODID:-//wp-events-plugin.com//7.2.3.1//EN
TZID:Australia/Sydney
X-WR-TIMEZONE:Australia/Sydney
BEGIN:VEVENT
UID:3040@unswoc.org
DTSTART;TZID=Australia/Sydney:20220827T000000
DTEND;TZID=Australia/Sydney:20220827T000000
DTSTAMP:20220806T063456Z
URL:https://unswoc.org/wordpress/events/bp-only-cave-exploration/
SUMMARY:BP ONLY - Cave Exploration 1
DESCRIPTION:~~~Sign ups only open to those already accepted on Bungonia Pal
 ooza~~~\n\n&nbsp\;\n\nYou'll never know what caves you could find. Come ju
 mp into a variety of holes with varying levels of difficulty and technical
 ity.\n\nIntermediate - people with rope experience preferred
CATEGORIES:Caving
END:VEVENT
BEGIN:VTIMEZONE
TZID:Australia/Sydney
X-LIC-LOCATION:Australia/Sydney
BEGIN:STANDARD
DTSTART:20220403T020000
TZOFFSETFROM:+1100
TZOFFSETTO:+1000
TZNAME:AEST
END:STANDARD
END:VTIMEZONE
END:VCALENDAR