BEGIN:VCALENDAR
VERSION:2.0
PRODID:-//wp-events-plugin.com//7.2.3.1//EN
TZID:Australia/Sydney
X-WR-TIMEZONE:Australia/Sydney
BEGIN:VEVENT
UID:3041@unswoc.org
DTSTART;TZID=Australia/Sydney:20220828T000000
DTEND;TZID=Australia/Sydney:20220828T000000
DTSTAMP:20220821T094331Z
URL:https://unswoc.org/wordpress/events/bp-only-cave-exploration-2/
SUMMARY:BP ONLY - Lazy Adventures
DESCRIPTION:~~~Sign ups only open to those already accepted on Bungonia Pal
 ooza~~~\n\n&nbsp\;\n\nYou'll never know what caves you could find. Come ju
 mp into a variety of holes with varying levels of difficulty and technical
 ity\, but in like a super chill way.\n\nYou might be wiggling through Holl
 and's Hole\, going on a short hike with beautiful views\, or picking a ran
 dom cave from the book to try out! It depends on the vie and how hungover/
 tired of jumarring you are!\n\n&nbsp\;\n\nBeginner/intermediate - people w
 ith rope experience preferred
CATEGORIES:Caving
END:VEVENT
BEGIN:VTIMEZONE
TZID:Australia/Sydney
X-LIC-LOCATION:Australia/Sydney
BEGIN:STANDARD
DTSTART:20220403T020000
TZOFFSETFROM:+1100
TZOFFSETTO:+1000
TZNAME:AEST
END:STANDARD
END:VTIMEZONE
END:VCALENDAR