BEGIN:VCALENDAR
VERSION:2.0
PRODID:-//wp-events-plugin.com//7.2.3.1//EN
TZID:Australia/Sydney
X-WR-TIMEZONE:Australia/Sydney
BEGIN:VEVENT
UID:3046@unswoc.org
DTSTART;TZID=Australia/Sydney:20220828T000000
DTEND;TZID=Australia/Sydney:20220828T000000
DTSTAMP:20220816T124444Z
URL:https://unswoc.org/wordpress/events/bp-only-blowfly-cave-2/
SUMMARY:BP ONLY - Blowfly Cave 2
DESCRIPTION:~~~Sign ups only open to those already accepted on Bungonia Pal
 ooza~~~\n\n&nbsp\;\n\nSuper fun cave with interesting squeezes\, climby bi
 ts\, and an abseil and jumar. Great first cave to practice your rope skill
 s in confined spaces!\n\n&nbsp\;\n\nIntermediate - people with rope experi
 ence preferred.
CATEGORIES:Caving
END:VEVENT
BEGIN:VTIMEZONE
TZID:Australia/Sydney
X-LIC-LOCATION:Australia/Sydney
BEGIN:STANDARD
DTSTART:20220403T020000
TZOFFSETFROM:+1100
TZOFFSETTO:+1000
TZNAME:AEST
END:STANDARD
END:VTIMEZONE
END:VCALENDAR