BEGIN:VCALENDAR
VERSION:2.0
PRODID:-//wp-events-plugin.com//7.2.3.1//EN
TZID:Australia/Sydney
X-WR-TIMEZONE:Australia/Sydney
BEGIN:VEVENT
UID:3053@unswoc.org
DTSTART;TZID=Australia/Sydney:20220828T000000
DTEND;TZID=Australia/Sydney:20220828T000000
DTSTAMP:20220816T112529Z
URL:https://unswoc.org/wordpress/events/bp-only-b4-5-extension/
SUMMARY:BP ONLY - B4-5 Extension
DESCRIPTION:~~~Sign ups only open to those already accepted on Bungonia Pal
 ooza~~~\n\n&nbsp\;\n\nLegend has it that an orange lake rests at the end o
 f this fabled cave. I don't know anyone living who's seen it\, but maybe y
 ou will? This is the time of year for it!\n\n&nbsp\;\n\nThe B4-5 Extension
  is NOT to be confused with regular B4-5. This is a longggggg gruelling ca
 ve with cool stuff like crawling! Wiggling! Squeezing! Vast caverns you ca
 n sit upright in! But also some cool sparkly features AND you get to say y
 ou went downnnnn the extension. It's a place not many people venture.\n\n&
 nbsp\;\n\nAdvanced - maybe a bit of climbing skills and general positive m
 indset for the length of the cave :)
CATEGORIES:Caving
END:VEVENT
BEGIN:VTIMEZONE
TZID:Australia/Sydney
X-LIC-LOCATION:Australia/Sydney
BEGIN:STANDARD
DTSTART:20220403T020000
TZOFFSETFROM:+1100
TZOFFSETTO:+1000
TZNAME:AEST
END:STANDARD
END:VTIMEZONE
END:VCALENDAR