BEGIN:VCALENDAR
VERSION:2.0
PRODID:-//wp-events-plugin.com//7.2.3.1//EN
TZID:Australia/Sydney
X-WR-TIMEZONE:Australia/Sydney
BEGIN:VEVENT
UID:3047@unswoc.org
DTSTART;TZID=Australia/Sydney:20220827T000000
DTEND;TZID=Australia/Sydney:20220827T000000
DTSTAMP:20220816T130724Z
URL:https://unswoc.org/wordpress/events/bp-only-argyle-cave/
SUMMARY:BP ONLY - Argyle Cave
DESCRIPTION:~~~Sign ups only open to those already accepted on Bungonia Pal
 ooza~~~\n\n&nbsp\;\n\nOne of the deepest caves in Bungonia with tonnes of 
 abseils descending to the crystal-clear water table.\n\n&nbsp\;\n\nAdvance
 d - people with rope ascending experience only.
CATEGORIES:Caving
END:VEVENT
BEGIN:VTIMEZONE
TZID:Australia/Sydney
X-LIC-LOCATION:Australia/Sydney
BEGIN:STANDARD
DTSTART:20220403T020000
TZOFFSETFROM:+1100
TZOFFSETTO:+1000
TZNAME:AEST
END:STANDARD
END:VTIMEZONE
END:VCALENDAR