BEGIN:VCALENDAR
VERSION:2.0
PRODID:-//wp-events-plugin.com//7.2.3.1//EN
TZID:Australia/Sydney
X-WR-TIMEZONE:Australia/Sydney
BEGIN:VEVENT
UID:3463@unswoc.org
DTSTART;TZID=Australia/Sydney:20240726T173000
DTEND;TZID=Australia/Sydney:20240726T230000
DTSTAMP:20240725T101207Z
URL:https://unswoc.org/wordpress/events/bp-friday-advanced-arc-bus/
SUMMARY:[BP] FRIDAY ADVANCED - ARC BUS
DESCRIPTION:For those needing a ride on the ARC Bus down to Bungonia!\n\nTh
 e bus will be in the parking area behind the gear cupboard\, and will be a
 iming to leave around 6pm ish.\n\n
CATEGORIES:Social Event
LOCATION:https://g.co/kgs/KAPVV9D
END:VEVENT
BEGIN:VTIMEZONE
TZID:Australia/Sydney
X-LIC-LOCATION:Australia/Sydney
BEGIN:STANDARD
DTSTART:20240407T020000
TZOFFSETFROM:+1100
TZOFFSETTO:+1000
TZNAME:AEST
END:STANDARD
END:VTIMEZONE
END:VCALENDAR