BEGIN:VCALENDAR
VERSION:2.0
PRODID:-//wp-events-plugin.com//7.2.3.1//EN
TZID:Australia/Sydney
X-WR-TIMEZONE:Australia/Sydney
BEGIN:VEVENT
UID:2131@unswoc.org
DTSTART:20170324T130000Z
DTEND:20170324T130000Z
DTSTAMP:20170321T051042Z
URL:https://unswoc.org/wordpress/events/bowens-explorers-2/
SUMMARY:The Bowens explorers take 2!
DESCRIPTION:\n\nHey my fellow fearless explorers!\n\n\nBlair and me are run
 ning a beginners canyon trip to another part of Bowens creek (south upper)
  this saturday!\n\nThis canyon is not too technical and only involves 1-2 
 abseils so beginners are welcome. However\, there will be a steep ascent w
 ith even a little climbing at the end and some tricky down scrambling in t
 he canyon!\n\nOtherwise there will be a lot of amazing scenery\, small jum
 ps and slides -so much fun!\n\nWe will leave Sydney very early Saturday mo
 rning (around 6am) and will be back in the evening after a day of adventur
 e. Depending on cars there is also the option to camp friday night at mt w
 ilson camp ground.\n\nAt the moment we will need at least one other driver
  so please contact either me (Steffi Quijote on fb) or Blair (Blair Harkne
 ss) and you will get priority.\n\nAlso\, the weather forecast seems ok for
  this weekend\, but after all the heavy rain lately we will be cautious an
 d keep an eye on it - so running pending on weather.\n\n\nBelow you find a
  list of all you need.\n\n\nHope to see ya all there!\n\nSteffi and Blair\
 n\n\n\n\nThe explorer equipment 101 (*= can be hire from the club):\n\n	we
 tsuit*\n	drybag (very advisable to get your own so that you have something
  to keep your lunch\, camera and dry clothes DRY - a waterproof back pack 
 will NOT be enough)\n	lunch + snacks (eps for your favorite trip leaders \
 ;))\n	harness*\n	atc + biner*\n	sling + biner*\n	helmet*\n	wool or synthet
 ic socks (not cotton)\n	cheap shoes that you dont mind to get wet or a bit
  ruined (if you dont have some\, head to target\, big W\,… and buy some 
 cheap volleys or runners)\n	(thermals for under your wetsuit if you get co
 ld easily)\n	(rainjacket for over the wetsuit if its a bit of a cold day)\
 n	backpack that can get wet to carry your stuff\n	spare set of thermals f
 or emergencies\n	flip flops for the ride back\n	towel and change of clothe
 s to change into when we get back to the car\n	headtorch\n	waterproof came
 ra\n\n
CATEGORIES:Canyoning
END:VEVENT
END:VCALENDAR