BEGIN:VCALENDAR
VERSION:2.0
PRODID:-//wp-events-plugin.com//7.2.3.1//EN
TZID:Australia/Sydney
X-WR-TIMEZONE:Australia/Sydney
BEGIN:VEVENT
UID:2398@unswoc.org
DTSTART;VALUE=DATE:20190331
DTEND;VALUE=DATE:20190401
DTSTAMP:20190326T125150Z
URL:https://unswoc.org/wordpress/events/bowens-creek-north-canyoning-trip/
SUMMARY:Lower Bowens Creek North Canyoning Trip!
DESCRIPTION:BEGINNER/INTERMEDIATE CANYONING TRIP TO LOWER BOWENS CREEK NORT
 H\n\nLucy\, Dave and I will doing Lower Bowens Creek North on Sunday\, si
 gn up if you are keen to come along!\n\n(find all the details here: https:
 //ozultimate.com/canyoning/track_notes/lower_bowens_creek_north.htm).\n\nT
 he canyon has a few abseils towards the beginning and you must know how to
  swim!\n\n&nbsp\;\n\nYou will need:\n\n 	To be keen\, know how to swim and
  (ideally) know how to abseil.\n 	Enclosed shoes with good grip e.g. volle
 ys\n 	Wollen socks\n 	Boardshorts to wear on top of a wetsuit\n 	Thermals\
 n 	A spare layer e.g. fleece or raincoat\n 	2 l water\n 	Food and snacks\n
  	Sunscreen\n 	Personal medication\n 	Headtorch\n 	A dry bag*\n 	A backpac
 k to fit all your gear in that you down mind getting wet\n 	Wetsuit*\n 	He
 lmet*\n 	Harness*\n 	ATC*\n 	Safety sling*\n 	Prusik*\n 	Locking Carabiner
 s for the above*\n\n*Can be borrowed from the club if necessary.\n\nIf you
 're keen to join us\, let us know whether you've done any canyons before\,
  whether you've abseiled before and whether you have a car in the comments
  box!
CATEGORIES:Canyoning
END:VEVENT
END:VCALENDAR