BEGIN:VCALENDAR
VERSION:2.0
PRODID:-//wp-events-plugin.com//7.2.3.1//EN
TZID:Australia/Sydney
X-WR-TIMEZONE:Australia/Sydney
BEGIN:VEVENT
UID:1463@unswoc.org
DTSTART:20150912T210000Z
DTEND:20150913T013000Z
DTSTAMP:20150908T072817Z
URL:https://unswoc.org/wordpress/events/boulders-for-days/
SUMMARY:Boulders for Days
DESCRIPTION:Sup\,\n\nRob and I will be heading out to Frontlines (can't get
  enough!!). A good variety of problems and difficulties.\n\nI will be dri
 ving but space might be limited if I’m taking club mats. Rob is leaving 
 from Balmain.\n\nPlease let us know if you have a car/mats!!\n\nSee the de
 scription below for what to bring and how to get there (thanks Vicky!):\n\
 nWhat to bring:\n\n\n* Climbing shoes &amp\; chalk\n\n* Food\, snacks &amp
 \; water\n\n* Bouldering mats if you have any \n\nGetting there:\n\n(By c
 ar) Frontlines is best accessed by car. I find it easiest to navigate to 4
  Larra Crescent\, North Rocks\, and then walk down the path next to the ho
 use with a mini red fire truck out front. From there about 30m along there
  is a well worn path down the hill with a small creek on your right\, foll
 ow this path for about 50m (past the barking dogs). When you hit the cliff
 -line turn left and scramble down wherever you please\, this is the Frontl
 ine area (directions courtesy of the Crag). Alternatively give me a buzz 
 if you arrive at a different time and I can come find you. Driving is prob
 ably the most convenient way to get to the crag.\n\n(By bus)\n\nAlternativ
 ely take a Hills bus from Townhall to the M2 – Barclay Road Interchange 
 bus stop and then it is a 15 minute walk. 131500.com is the best place to 
 go to for bus numbers and times.\n\nTHE CLIMBS\n\nCheck out the Crag’s g
 uide to the Frontlines area to suss out all the climbs.
CATEGORIES:Outdoor Climbing
LOCATION:Frontlines\, 4 Larra Crescent\, North Rocks\, Australia
GEO:-33.762959;151.011795
X-APPLE-STRUCTURED-LOCATION;VALUE=URI;X-ADDRESS=4 Larra Crescent\, North Ro
 cks\, Australia;X-APPLE-RADIUS=100;X-TITLE=Frontlines:geo:-33.762959,151.0
 11795
END:VEVENT
END:VCALENDAR