BEGIN:VCALENDAR
VERSION:2.0
PRODID:-//wp-events-plugin.com//7.2.3.1//EN
TZID:Australia/Sydney
X-WR-TIMEZONE:Australia/Sydney
BEGIN:VEVENT
UID:507@unswoc.org
DTSTART:20140801T220000Z
DTEND:20140802T053000Z
DTSTAMP:20140731T180222Z
URL:https://unswoc.org/wordpress/events/boulderingclimbing-lindfield/
SUMMARY:Bouldering/Climbing - Lindfield
DESCRIPTION:The trip:\n\nTo get the semester started\, we'll be showing peo
 ple around Lindfield Rocks\, one of the highest quality bouldering areas i
 n Sydney. This is intended as both a introduction for new members to the c
 lub (and to climbing) as well as a social day for existing club members.\n
 \nWho should come:\n\nYou. Definitely.\n\nIf you've never climbed before\,
  this is a great place to get some rock under your hands and see what the 
 sport is all about\, without needing to go halfway up a cliff in the Blue 
 Mountains. If you've been to Lindfield before\, come back and tick your pr
 oject! It's been waiting for you. And if you're a climber who's somehow ne
 ver been here yet\, stop missing out.\n\nHow to get there:\n\nThe climbing
  area is about a 20 min walk from Lindfield train station\, just north of 
 Chatswood on the T1 Northern Line. Otherwise\, chat to people on facebook 
 to see about a lift.\n\nWhat to bring:\n\nThe bare essentials:\n\n	Food an
 d water for the day\n	Shoes\, sun protection etc (you know\, basic leaving
 -the-house stuff)\n\nIf you've got them:\n\n	Climbing shoes\n	Bouldering m
 ats (seriously\, the more the merrier for these things\, don't hold out on
  us)\n	Chalk\n\nFor more info on the climbing area itself\, check out htt
 p://www.thecrag.com/climbing/australia/north-shore/area/12011227\n\nFor mo
 re info on the trip\, comment on the Facebook post\, or message Blair Hark
 ness or Matt Minus directly.
CATEGORIES:Outdoor Climbing,Social Event
LOCATION:\, \, 
X-APPLE-STRUCTURED-LOCATION;VALUE=URI;X-ADDRESS=\, ;X-APPLE-RADIUS=100;X-TI
 TLE=:geo:0,0
END:VEVENT
END:VCALENDAR