BEGIN:VCALENDAR
VERSION:2.0
PRODID:-//wp-events-plugin.com//7.2.3.1//EN
TZID:Australia/Sydney
X-WR-TIMEZONE:Australia/Sydney
BEGIN:VEVENT
UID:2298@unswoc.org
DTSTART:20181013T030000Z
DTEND:20181013T060000Z
DTSTAMP:20181010T120321Z
URL:https://unswoc.org/wordpress/events/bouldering9-degrees-alaxandria/
SUMMARY:Bouldering@9 degrees\, Alexandria
DESCRIPTION:The forecast don`t look great so we will be heading indoors for
  some bouldering at 9 degrees Alexandria on Saturday ... All are welcome! 
 No need to book for this one\, just rock up.\n\nWhat to bring:\n\n 	Yourse
 lf\n 	Climbing shoes (can be hired there)\n 	Chalk\n 	Water\n\nWe will be 
 there from 2pm onwards but feel free to drop by whenever you can!\n\nFurth
 er details of the gym can be found here: http://www.9degrees.com.au/9degr
 eeshome\n\nShould be a good time\n\nSee you there\n\nJenny
ATTACH;FMTTYPE=image/jpeg:https://unswoc.org/wordpress/wp-content/uploads/
 2018/02/100b62624d7e7025bc051f90632803d487fc95b6.jpg
CATEGORIES:Bouldering,Social Event
END:VEVENT
END:VCALENDAR