BEGIN:VCALENDAR
VERSION:2.0
PRODID:-//wp-events-plugin.com//7.2.3.1//EN
TZID:Australia/Sydney
X-WR-TIMEZONE:Australia/Sydney
BEGIN:VEVENT
UID:2176@unswoc.org
DTSTART:20170919T060000Z
DTEND:20170919T110000Z
DTSTAMP:20170918T050954Z
URL:https://unswoc.org/wordpress/events/bouldering-show-night-moves/
SUMMARY:Bouldering - Show us your night moves!
DESCRIPTION:Hey all!\n\nNicola and I are running a last minute trip outdoor
  bouldering at Queens park. Come join us after work or uni. We wont get th
 ere until 5pm with the mats but latecomers welcome too. Beginner? Intermed
 iate? Crusher? Don't worry we will have something for everyone!\n\nWhat to
  bring:\n- chalk (if you have some)\n- climbing shoes*\n- Head torch **\n-
  Water\n- Snacks\n\n* If you have your own\, bring them. Otherwise we have
  a box of smelly club ones you can borrow.\n** Very important unless you l
 ike spiders and scary mantles. You can pick a cheap one of these up from A
 naconda\, Kmart\, Big W or any outdoors store.\n\nI have 2 spots in my car
 \, and will be grabbing gear from the gear cupboard at 4. Otherwise there 
 are many various ways to get there by public transport. We will be climbin
 g at the spot marked on the map. If you can't find us\, my number is 04502
 28081
CATEGORIES:Bouldering
END:VEVENT
END:VCALENDAR