BEGIN:VCALENDAR
VERSION:2.0
PRODID:-//wp-events-plugin.com//7.2.3.1//EN
TZID:Australia/Sydney
X-WR-TIMEZONE:Australia/Sydney
BEGIN:VEVENT
UID:466@unswoc.org
DTSTART:20140329T220000Z
DTEND:20140330T050000Z
DTSTAMP:20140324T155755Z
URL:https://unswoc.org/wordpress/events/bouldering-open-day/
SUMMARY:Bouldering Open Day
DESCRIPTION:Open Day for "Something Big Is On The Horizon"\n&nbsp\;\n\nHi G
 uys\, the developers of a brand new bouldering crag in Sydney have invited
  me to bring some cool people along to their open day this Sunday! If you'
 re cool\, and want to learn how to boulder outdoors come along\, there is 
 heaps of rock for you to start trying your gym skills out on! If you're al
 ready a proficient boulderer\, there are a number of open projects here wa
 iting for you to claim the glory of the first ascent! It will also be a ch
 ance to have the developers explain how much work is involved in getting a
  crag going and they may let you in on some other new areas being develope
 d if you ask them nicely enough :D\n\nThings to bring:\n\n	Lunch\n	Climbin
 g shoes (please let me know if you don't have any and I may be able to so
 urce some from the club's stores)\n\nI will be able to pick you up from Ki
 llara train station at 8:30am and run shuttles if you let me know\, otherw
 ise the crag is a 20 minute walk from the station. We should be there most
  of the day so don't fret if you can't get there till later!\n\nIf the wea
 ther is atrocious and the rock is too wet I will cancel by posting on the 
 UNSWOC page\, hopefully Sunday will be clear!
CATEGORIES:Outdoor Climbing
LOCATION:\, \, 
X-APPLE-STRUCTURED-LOCATION;VALUE=URI;X-ADDRESS=\, ;X-APPLE-RADIUS=100;X-TI
 TLE=:geo:0,0
END:VEVENT
END:VCALENDAR