BEGIN:VCALENDAR
VERSION:2.0
PRODID:-//wp-events-plugin.com//7.2.3.1//EN
TZID:Australia/Sydney
X-WR-TIMEZONE:Australia/Sydney
BEGIN:VEVENT
UID:3319@unswoc.org
DTSTART;TZID=Australia/Sydney;VALUE=DATE:20231015
DTEND;TZID=Australia/Sydney;VALUE=DATE:20231018
DTSTAMP:20231015T090022Z
URL:https://unswoc.org/wordpress/events/bouldering-in-north-black-range/
SUMMARY:Bouldering in North Black Range!
DESCRIPTION:Hello friends!\n&nbsp\;\n\nAs an extension for Boree Log\, Mali
  and I (Ange) will be headed down to the North Black Range for some campin
 g + bouldering\, about an hour out of Canberra. We're hoping to go camp fr
 om Sunday night after Boree and leave Tuesday night after some bouldering 
 during the day. We'd love some company from some other keen boulderer bean
 s\, ideally self-sufficient peeps with experience with bouldering outdoors
 . It's a seriously sick playground of (slightly mossy) granite boulders th
 at is tough on the skin but has friction that keeps you on like no other.\
 n\nA guide is available on the crag here and we also have the electronic 
 guide book if anyone wants to have a look - shoot me a message!\n\nWe will
  be camping nearby at the Mulloon Creek Campground\, this to be self organ
 ised if coming. For those who would be keen\, please bring your own pads o
 r organise to borrow and transport club pads as Mali and I will not have t
 he capacity to bring more than what we'll need for the trip. This is basic
 ally a placeholder event to let people know that this is happening but eve
 rything else will actually be organised later :D\n \n\nPics to show you so
 me of the cool formations you'll see at the range and a very peak happines
 s Mali\n&nbsp\;\n\nWhat to bring:\n\n 	Water for the entirety of the trip\
 n 	Food - breakfasts\, lunches\, dinners\n 	Warm clothing \n 	Camping stuf
 f\n\n 	Tent\n 	Sleeping bag\n 	Sleeping mat\n 	Stove etc…….\n\n\n 	Sho
 es\n 	Chalk Bags\n 	Boulder pads\n 	Sun protection\n\n&nbsp\;\n\nIn the co
 mments let us know your experience with bouldering indoors/outdoors\, if y
 ou're bringing a pad\, and the animal you've been most excited to see with
  your own eyes in the wild. Also please let us know if you have a car and 
 if so\, how many people you can give a lift.\n\n&nbsp\;\n\nAny questions\,
  please feel free to shoot Mali or I (Angela) a message on Facebook!
CATEGORIES:Bouldering,Outdoor Climbing
LOCATION:https://www.nationalparks.nsw.gov.au/camping-and-accommodation/cam
 pgrounds/mulloon-creek-campground
END:VEVENT
BEGIN:VTIMEZONE
TZID:Australia/Sydney
X-LIC-LOCATION:Australia/Sydney
BEGIN:DAYLIGHT
DTSTART:20231001T030000
TZOFFSETFROM:+1000
TZOFFSETTO:+1100
TZNAME:AEDT
END:DAYLIGHT
END:VTIMEZONE
END:VCALENDAR