BEGIN:VCALENDAR
VERSION:2.0
PRODID:-//wp-events-plugin.com//7.2.3.1//EN
TZID:Australia/Sydney
X-WR-TIMEZONE:Australia/Sydney
BEGIN:VEVENT
UID:2278@unswoc.org
DTSTART:20180825T230000Z
DTEND:20180826T040000Z
DTSTAMP:20180821T113046Z
URL:https://unswoc.org/wordpress/events/bouldering-frontlines/
SUMMARY:Bouldering - Frontlines
DESCRIPTION:Hey everyone\,\n\nFelix and I are running bouldering at Frontli
 nes this Sunday (weather permitting). You'll need climbing shoes and a cha
 lk bag\, food and water is recommended\, and if you have a bouldering mat 
 be sure to bring it! We'll car pool or bus from uni-ish leaving about 9am.
  Please let us know if you have a car!\n\n\nThe Frontlines:\nhttps://www.t
 hecrag.com/climbing/australia/north-west/the-frontline\n\nCheers!\nBrendan
END:VEVENT
END:VCALENDAR