BEGIN:VCALENDAR
VERSION:2.0
PRODID:-//wp-events-plugin.com//7.2.3.1//EN
TZID:Australia/Sydney
X-WR-TIMEZONE:Australia/Sydney
BEGIN:VEVENT
UID:2020@unswoc.org
DTSTART:20160521T210000Z
DTEND:20160522T030000Z
DTSTAMP:20160516T222006Z
URL:https://unswoc.org/wordpress/events/bouldering-frontlines-oldies-newsi
 es-inbetweensies/
SUMMARY:Bouldering at Frontlines for the oldies\, newsies and all the inbet
 weensies
DESCRIPTION:Hey guys Minus and I will be running a bouldering trip to Front
 lines this coming Sunday. Regardless of whether it'll be your first time o
 utdoors or you're a Frontlines regular\, there is something there for ever
 yone.\n\nCrag guide here: https://www.thecrag.com/climbing/australia/north
 -west/the-frontline\n\nBouldering is the art of figuring out the best way 
 that suits you to climb up a boulder\, climbing it\, and (usually) walking
  down the other side. A friend once asked\, "but why don't you just walk a
 round the boulder?" To that I answered\, because it's not as fun and you g
 et to use your imagination!\n\nWhat to bring:\n\n	Climbing shoes which can
  be borrowed from the club\n	Chalk - optional but recommended\n	Water for 
 the day\n	Snacks and lunch\n	Sunscreen\n\nHow to get there:\n\n	I'll be le
 aving from uni at 8 in the morning with four spots. If another person can 
 drive that would be awesome!\n	Alternatively there's a bus that goes to th
 e M2-Barclay Road interchange that is an easy peasy 10 minute walk away\n\
 nWe'll aim to arrive at 9 and stay for however long people want.\n\nHope t
 o see you there!\n\nCheers
CATEGORIES:Bouldering
END:VEVENT
END:VCALENDAR