BEGIN:VCALENDAR
VERSION:2.0
PRODID:-//wp-events-plugin.com//7.2.3.1//EN
TZID:Australia/Sydney
X-WR-TIMEZONE:Australia/Sydney
BEGIN:VEVENT
UID:3272@unswoc.org
DTSTART;TZID=Australia/Sydney;VALUE=DATE:20230624
DTEND;TZID=Australia/Sydney;VALUE=DATE:20230625
DTSTAMP:20230623T234029Z
URL:https://unswoc.org/wordpress/events/bouldering-at-the-frontline/
SUMMARY:[FULL] Bouldering at The Frontline
DESCRIPTION:Hey folks\,\n\nJustin\, Marcus\, and I (Brendan) will be headin
 g to The Frontline this Saturday 24 June. The Frontline is an expansive cr
 ag with boulders of all sorts of different styles and difficulties. Lookin
 g forward to a great day out!\n\n[caption id="attachment_15159" align="ali
 gncenter" width="400"] Stevie G jamming through a roof crack - so inspirat
 ional[/caption]\n\nIn the comments let us know your experience with boulde
 ring (indoors and outdoors)\, if you have a pad you can bring\, whether or
  not you have a car\, and your favourite type of hold (jug\, sloper\, a sl
 oper that you thought was a jug\, etc.)\n\nWhat to bring:\n\n 	Climbing sh
 oes\n 	Chalk bag\n 	WATER (2L minimum)\n 	Lunch/snacks\n 	Boulder pads\n 	
 Sun protection\n 	A positive attitude\n\nMore info on the location can be 
 found here: https://www.thecrag.com/en/climbing/australia/north-west/the-f
 rontline \n\n&nbsp\;
CATEGORIES:Bouldering
END:VEVENT
BEGIN:VTIMEZONE
TZID:Australia/Sydney
X-LIC-LOCATION:Australia/Sydney
BEGIN:STANDARD
DTSTART:20230402T020000
TZOFFSETFROM:+1100
TZOFFSETTO:+1000
TZNAME:AEST
END:STANDARD
END:VTIMEZONE
END:VCALENDAR