BEGIN:VCALENDAR
VERSION:2.0
PRODID:-//wp-events-plugin.com//7.2.3.1//EN
TZID:Australia/Sydney
X-WR-TIMEZONE:Australia/Sydney
BEGIN:VEVENT
UID:825@unswoc.org
DTSTART:20150328T220000Z
DTEND:20150329T020000Z
DTSTAMP:20150326T091446Z
URL:https://unswoc.org/wordpress/events/bouldering-at-lindfield/
SUMMARY:Bouldering at Lindfield
DESCRIPTION:http://www.thecrag.com/climbing/australia/north-shore/area/1201
 1227\n\nIf you didn't make it last week\, here's your chance to discover o
 ne of the best beginner bouldering areas in Sydney. If you bouldered last 
 Saturday\, send those projects you didn't have time to work.\n\nDetails on
  how to get to the crag will be posted on Saturday afternoon.\n\nAlec 0424
 120818
CATEGORIES:Outdoor Climbing
LOCATION:\, \, 
X-APPLE-STRUCTURED-LOCATION;VALUE=URI;X-ADDRESS=\, ;X-APPLE-RADIUS=100;X-TI
 TLE=:geo:0,0
END:VEVENT
END:VCALENDAR