BEGIN:VCALENDAR
VERSION:2.0
PRODID:-//wp-events-plugin.com//7.2.3.1//EN
TZID:Australia/Sydney
X-WR-TIMEZONE:Australia/Sydney
BEGIN:VEVENT
UID:3114@unswoc.org
DTSTART;TZID=Australia/Sydney:20221105T000000
DTEND;TZID=Australia/Sydney:20221105T235900
DTSTAMP:20221102T034921Z
URL:https://unswoc.org/wordpress/events/bouldering-at-lindfield-rocks/
SUMMARY:Bouldering at Lindfield Rocks
DESCRIPTION:Hi all\,\n\nDaniel and I (Sam) will be running a bouldering tri
 p to Lindfield Rocks this Saturday (5th November). It's a classic Sydney c
 rag.\n\nYou will need:\n\n 	Climbing shoes (can be borrowed from the club)
 \n 	Chalkbag/liquid chalk\n 	3L water\n 	Sunscreen\n 	Lunch and snacks\n 	
 A pad\, if you have one\n\nIf you’ve got any questions\, feel free to me
 ssage Daniel Gilbert or myself (Sam Sutherland) on Facebook. When signing 
 up please write down the experience you have (including what grades you cl
 imb indoor/outdoor)\, any gear you need\, and your favourite crag snack. Y
 ou should swing by the gear cupboard if you need any gear.\n\nLooking forw
 ard to seeing you there!
END:VEVENT
BEGIN:VTIMEZONE
TZID:Australia/Sydney
X-LIC-LOCATION:Australia/Sydney
BEGIN:DAYLIGHT
DTSTART:20221002T030000
TZOFFSETFROM:+1000
TZOFFSETTO:+1100
TZNAME:AEDT
END:DAYLIGHT
END:VTIMEZONE
END:VCALENDAR