BEGIN:VCALENDAR
VERSION:2.0
PRODID:-//wp-events-plugin.com//7.2.3.1//EN
TZID:Australia/Sydney
X-WR-TIMEZONE:Australia/Sydney
BEGIN:VEVENT
UID:1958@unswoc.org
DTSTART:20160226T070000Z
DTEND:20160226T110000Z
DTSTAMP:20160225T121456Z
URL:https://unswoc.org/wordpress/events/bouldering-at-lindfield-or-how-i-l
 earned-to-love-highball/
SUMMARY:Bouldering at Lindfield (Or: How I Learned to Love Highball)
DESCRIPTION:Hey\,\n\nDespite the heat\, looking to head to Lindfield tomorr
 ow and jump on Pipe Dreams. For those of you new to the club\, bouldering 
 is a type of climbing that focuses on a shorter route with more intense mo
 vement (hence the verb of choice being 'crushing').\n\nLeaving UNSW ~5pm s
 o looking to get there between 6 and 6:30. We will have lights so we can b
 oulder through the night. I will be driving but the mats/lights will be in
  my car so I won't be able to take any people. However\, Lindfield station
  is close by and is a walk away from the boulder site.\n\nIf you don't hav
 e shoes\, let me know and I can try and organise a pair from the cupboard.
 \n\nthecrag guide: http://www.thecrag.com/climbing/australia/north-shore/
 area/12011227\n\ngmaps: https://www.google.com/maps/dir/UNSW\,+Sydney\,+N
 ew+South+Wales\,+Australia/-33.768556\,151.178951/@-33.8419457\,151.132734
 2\,12z/data=!3m1!4b1!4m12!4m11!1m5!1m1!1s0x6b12b18b0302c1a7:0x1d017d69037a
 07a0!2m2!1d151.2313068!2d-33.9174103!1m0!2m2!7e2!8j1456506000!3e3\n\nWhat 
 to bring:\n\nWater\n\nCrush\n\nSomething for dinner\n\nClimbing shoes\n\nC
 halk\n\nMore crush\n\nHeadtorch\n\nMoney for ice cream!\n\n&nbsp\;\n\n&nbs
 p\;
CATEGORIES:Bouldering
END:VEVENT
END:VCALENDAR