BEGIN:VCALENDAR
VERSION:2.0
PRODID:-//wp-events-plugin.com//7.2.3.1//EN
TZID:Australia/Sydney
X-WR-TIMEZONE:Australia/Sydney
BEGIN:VEVENT
UID:1968@unswoc.org
DTSTART:20160308T071500Z
DTEND:20160308T120000Z
DTSTAMP:20160306T112145Z
URL:https://unswoc.org/wordpress/events/bouldering-at-lindfield-beginner-f
 riendly/
SUMMARY:Bouldering at Lindfield (Beginner Friendly)
DESCRIPTION:Hey\,\n\nLooking at going again on Tuesday night. Temps will be
  OK but don't think we'll be as lucky as last time...\n\nFor those of you 
 new to the club\, bouldering is a type of climbing that focuses on a short
 er route with more intense movement (hence the verb of choice being ‘cru
 shing’).\n\nLeaving UNSW ~5pm so looking to get there between 6 and 6:30
 . We will have lights so we can boulder through the night. I will be drivi
 ng but the mats/lights will be in my car so I won’t be able to take any 
 people. However\, Lindfield station is close by and is a walk away from th
 e boulder site.\n\nIf you don’t have shoes\, let me know (early please!)
  and I can try and organise a pair from the cupboard.\n\nthecrag guide: h
 ttp://www.thecrag.com/climbing/australia/north-shore/area/12011227\n\ngmap
 s: https://www.google.com/maps/dir/UNSW\,+Sydney\,+New+South+Wales\,+Aust
 ralia/-33.768556\,151.178951/@-33.8419457\,151.1327342\,12z/data=!3m1!4b1!
 4m12!4m11!1m5!1m1!1s0x6b12b18b0302c1a7:0x1d017d69037a07a0!2m2!1d151.231306
 8!2d-33.9174103!1m0!2m2!7e2!8j1456506000!3e3\n\nWhat to bring:\n\nWater\n\
 nCrush\n\nSomething for dinner\n\nClimbing shoes\n\nChalk\n\nMore crush\n\
 nHeadtorch\n\nMoney for ice cream/Oak!\n\n&nbsp\;
CATEGORIES:Bouldering
END:VEVENT
END:VCALENDAR