BEGIN:VCALENDAR
VERSION:2.0
PRODID:-//wp-events-plugin.com//7.2.3.1//EN
TZID:Australia/Sydney
X-WR-TIMEZONE:Australia/Sydney
BEGIN:VEVENT
UID:856@unswoc.org
DTSTART:20150731T220000Z
DTEND:20150801T010000Z
DTSTAMP:20150729T042525Z
URL:https://unswoc.org/wordpress/events/bouldering-at-lindfield-2/
SUMMARY:Bouldering at Lindfield
DESCRIPTION:Details are on the Facebook event (posted on the bouldering gro
 up). Sign up here for insurance (?)
CATEGORIES:Outdoor Climbing
LOCATION:\, \, 
X-APPLE-STRUCTURED-LOCATION;VALUE=URI;X-ADDRESS=\, ;X-APPLE-RADIUS=100;X-TI
 TLE=:geo:0,0
END:VEVENT
END:VCALENDAR