BEGIN:VCALENDAR
VERSION:2.0
PRODID:-//wp-events-plugin.com//7.2.3.1//EN
TZID:Australia/Sydney
X-WR-TIMEZONE:Australia/Sydney
BEGIN:VEVENT
UID:2987@unswoc.org
DTSTART;TZID=Australia/Sydney:20220312T100000
DTEND;TZID=Australia/Sydney:20220312T130000
DTSTAMP:20220311T080622Z
URL:https://unswoc.org/wordpress/events/bouldering-at-blochaus/
SUMMARY:Bouldering at blochaus
DESCRIPTION:\n\n\n\n\nHello All!\nTomorrow Sam and I (Sammy) will be climbi
 ng at Blochaus from 10am. If you're new to the sport and are keen to learn
  to climb better come along and we will show you some basic techniques (e.
 g.\, falling safely\, using straight arms on overhangs\, using your toes) 
 and give you pointers and tips as you climb. Also meet other newbies to be
 come climbing buddies with!\n\n\n\nNo sign up required!\n\n\n\nLooking for
 ward to seeing you there!\n\nWe'll be wearing club shirts and we look like
  this:\n\n\n\n\n\n\n\n
END:VEVENT
BEGIN:VTIMEZONE
TZID:Australia/Sydney
X-LIC-LOCATION:Australia/Sydney
BEGIN:DAYLIGHT
DTSTART:20211003T030000
TZOFFSETFROM:+1000
TZOFFSETTO:+1100
TZNAME:AEDT
END:DAYLIGHT
END:VTIMEZONE
END:VCALENDAR