BEGIN:VCALENDAR
VERSION:2.0
PRODID:-//wp-events-plugin.com//7.2.3.1//EN
TZID:Australia/Sydney
X-WR-TIMEZONE:Australia/Sydney
BEGIN:VEVENT
UID:2833@unswoc.org
DTSTART;TZID=Australia/Sydney;VALUE=DATE:20210117
DTEND;TZID=Australia/Sydney;VALUE=DATE:20210118
DTSTAMP:20210114T045313Z
URL:https://unswoc.org/wordpress/events/bouldering-17-01-21/
SUMMARY:Bouldering at the Front
DESCRIPTION:Hey everyone\,\n\nNic and I (Pat) will be leading a beginner fr
 iendly bouldering trip at the Frontlines in Baulkham Hills this Sunday (17
 th Jan). It’s a spot filled with great boulders with a short walk in –
  a perfect crag for beginners or intermediate climbers. No climbing experi
 ence required!\n\nYou will need:\n\n 	Climbing shoes (can be borrowed from
  the club)\n 	Chalkbag\n 	2L water\n 	Sunscreen\n 	Lunch and snacks\n\nIf 
 you’ve got any questions\, feel free to message Nicolas Di Campli or mys
 elf (Patrick Chambers) on Facebook. When signing up please write down the 
 experience you have\, any gear you need\, and your favourite crag snack. W
 e’ll sort out either picking up gear for you or running by the gear cupb
 oard in the morning if needed.\n\nLooking forward to seeing you there!
CATEGORIES:Bouldering
END:VEVENT
BEGIN:VTIMEZONE
TZID:Australia/Sydney
X-LIC-LOCATION:Australia/Sydney
BEGIN:DAYLIGHT
DTSTART:20201004T030000
TZOFFSETFROM:+1000
TZOFFSETTO:+1100
TZNAME:AEDT
END:DAYLIGHT
END:VTIMEZONE
END:VCALENDAR