BEGIN:VCALENDAR
VERSION:2.0
PRODID:-//wp-events-plugin.com//7.2.3.1//EN
TZID:Australia/Sydney
X-WR-TIMEZONE:Australia/Sydney
BEGIN:VEVENT
UID:2839@unswoc.org
DTSTART;TZID=Australia/Sydney:20210210T103000
DTEND;TZID=Australia/Sydney:20210210T133000
DTSTAMP:20210204T102147Z
URL:https://unswoc.org/wordpress/events/boulder-n-brunch/
SUMMARY:Boulder n Brunch
DESCRIPTION:Hello everyone!\n\nWELCOME TO THE UNSW OUTDOORS CLUB!\n\nWe wil
 l be running an O-week special to go bouldering trip at 9 Degrees Waterloo
 . Entry to the gym will cost $13.50 for the event\, and shoes can be borro
 wed from the club or hired from the gym on the day.\n\nThere will be snack
 s and socialising and intense moral support!\nBeginner and crusher friendl
 y!\nIf you’re new to the club or thinking of joining the club\, this is 
 a great opportunity to meet some of our members and learn more about the c
 lub. We do a lot more than bouldering and climbing – though these are ob
 viously the best activities (: – so you can have a chat with someone an
 d find out more about other activities you’re interested in\, like canyo
 ning\, hiking\, kayaking or mountain biking.\n\nDon’t worry if you’ve 
 never climbed before – bouldering takes the rope\, harness and other has
 sle out of climbing\, and you can start at any skill/strength/mental forti
 tude level and have a great time!\n\nYou’ll need to bring:\n\n 	Comforta
 ble clothes (something you can exercise in\, and something you don’t min
 d getting chalk and sweat all over)\n 	Water \n 	Climbing shoes (these can
  be borrowed from the club on the day\, or you can hire them from the gym:
  for free if it’s your first visit or $7 otherwise)\n\nIf it’s your fi
 rst time visiting a 9 Degrees Gym\, you’ll need to fill out a waiver for
 m\, which can be done online here or at the gym when you arrive. You can a
 lso find more information about bouldering and the gym at their first visi
 t page.\n\nIf you’ve got any questions\, feel free to message me (Patric
 k Chambers)\, Joshua Yang or Mira bug on Facebook. If you’re interested\
 , sign up below\, and comment with any dietary restrictions you have. Look
 ing forward to seeing you there!\n\n\n\n&nbsp\;
CATEGORIES:Indoor Climbing
END:VEVENT
BEGIN:VTIMEZONE
TZID:Australia/Sydney
X-LIC-LOCATION:Australia/Sydney
BEGIN:DAYLIGHT
DTSTART:20201004T030000
TZOFFSETFROM:+1000
TZOFFSETTO:+1100
TZNAME:AEDT
END:DAYLIGHT
END:VTIMEZONE
END:VCALENDAR