BEGIN:VCALENDAR
VERSION:2.0
PRODID:-//wp-events-plugin.com//7.2.3.1//EN
TZID:Australia/Sydney
X-WR-TIMEZONE:Australia/Sydney
BEGIN:VEVENT
UID:1984@unswoc.org
DTSTART:20160318T200000Z
DTEND:20160319T060000Z
DTSTAMP:20160315T035634Z
URL:https://unswoc.org/wordpress/events/borree-log-pierces-pass-intermedia
 te-climbing/
SUMMARY:Borree Log: Pierces Pass (Intermediate climbing)
DESCRIPTION:Eamonn and I are running an intermediate climbing trip to Pierc
 e's Pass\, to take on two of the longest routes in the mountains! Get psyc
 hed!!\n\nChoose from either one of Hotel California (22\, 10 pitches) and
  Bunny Bucket Buttress (18\, 8 pitches). Eamon and I will take up to 2 cli
 mbers for each route.\n\nIt will be a good chance to brush up on your mul
 ti-pitch climbing techniques\, and you will be able to lead some pitches i
 f you are keen.\n\nWe will meet at camp on Saturday morning early around 7
 am\, and head off by 7.30am for the cliff.\n\nYou should be a capable clim
 ber\, being competent with abseiling\, lead belaying\, ropework\, and seco
 nding up to the crux grade of the climb you want to do.\n\nSend me a messa
 ge on Facebook if you have any questions!\n\nSign up below and mention wh
 at route you're keen for. If you're a capable multi-pitch climber and want
  to 'lead' a route\, let me know and we can expand the trip.\n\n&nbsp\;\n\
 n&nbsp\;
ATTACH;FMTTYPE=image/jpeg:https://unswoc.org/wordpress/wp-content/uploads/
 2016/03/hotelcali.jpg
CATEGORIES:Outdoor Climbing
END:VEVENT
END:VCALENDAR