BEGIN:VCALENDAR
VERSION:2.0
PRODID:-//wp-events-plugin.com//7.2.3.1//EN
TZID:Australia/Sydney
X-WR-TIMEZONE:Australia/Sydney
BEGIN:VEVENT
UID:2221@unswoc.org
DTSTART;VALUE=DATE:20180318
DTEND;VALUE=DATE:20180319
DTSTAMP:20180307T123006Z
URL:https://unswoc.org/wordpress/events/boree-sunday-twister-rocky-canyons
 -beginner/
SUMMARY:Boree Sunday - Twister Rocky Canyons (beginner)
DESCRIPTION:Hey\,\n\nJenny and I are running a beginners canyoning trip on 
 the Sunday of Boree Log.\n\nHere are some pics from Oz Ultimate to get you
  interested...\n\n\n\n\n\nTwister and Rocky are two canyons that we can co
 mbine. Twister is like a obstacle course with a few fun jumps and Rocky is
  really beautiful so we can take some time to explore it.\n\nIt'll be begi
 nner friendly\, there's no abseils and no eels.\n\nYou will need to bring:
 \n\n 	Lunch\n 	Water (I recommend at least 2L)\n 	A drybag (these cost abo
 ut $12\, from Kathmandu/ Anaconda/ Macpac)\, I'd recommend 15L - 20L if yo
 ur interested in getting into canyoning\, but any size is fine. It's just 
 to keep your clothes and lunch dry\, and maybe camera.\n 	A backpack\n 	Sh
 oes that won't get slippery when wet (I wear normal runners)\n 	Wool tops 
 (for under the wetsuit)\, wool/synthetic socks and beanie for keep you and
  your tootsies warm. Avoid cotton clothes in the canyon.\n\n\n 	Wetsuits c
 an be borrowed from the club at Boree Log\n\nTo join:\n\nRequest to join o
 n this website\, and also message me on facebook (facebook.com/liam.hayes.
 71) and let me know if you've done a canyon before\, if it's your first Bo
 ree Log\, if you've got a car and your favourite deep sea creature :)\n\nS
 ee you then!\n\nLiam.
CATEGORIES:Canyoning
END:VEVENT
END:VCALENDAR