BEGIN:VCALENDAR
VERSION:2.0
PRODID:-//wp-events-plugin.com//7.2.3.1//EN
TZID:Australia/Sydney
X-WR-TIMEZONE:Australia/Sydney
BEGIN:VEVENT
UID:2118@unswoc.org
DTSTART:20170317T210000Z
DTEND:20170318T060000Z
DTSTAMP:20170313T025211Z
URL:https://unswoc.org/wordpress/events/boree-serendipity-canyon-beginneri
 ntermediate/
SUMMARY:Boree - Serendipity Canyon (NOW FULL)
DESCRIPTION:Hey All\n\nBlair and I will be running Serendipity canyon Satur
 day morning. It is a scenic canyon with a few abseils\, some swims\, jumps
 \, heights and lots of moss. Beginners welcome\, being able to swim highly
  recommended. \n\nWe will leave at 8 so be up and ready to go Saturday Mo
 rning\n\nGear You will need:\nWetsuit\, helmet\, 2 biners\, safety sling\,
  descender/belay device\, harness\, you'll be able to borrow this stuff fr
 om the club (on Saturday morning) but if you already have it then great!\
 n\n+ drybag (to store clothes food and water)\, water 1L\, back up dry jum
 per (not cotton)\, HEADTORCH\, food/snacks and thermals under wetsuit (opt
 ional).\n\nAny questions message me (Aidan)\n\ncheck this out if you want 
 to see what you might be in for...https://youtu.be/BUhrmgvryH0?t=1m
CATEGORIES:Boree Log,Canyoning
END:VEVENT
END:VCALENDAR