BEGIN:VCALENDAR
VERSION:2.0
PRODID:-//wp-events-plugin.com//7.2.3.1//EN
TZID:Australia/Sydney
X-WR-TIMEZONE:Australia/Sydney
BEGIN:VEVENT
UID:2222@unswoc.org
DTSTART;VALUE=DATE:20180317
DTEND;VALUE=DATE:20180318
DTSTAMP:20180307T125335Z
URL:https://unswoc.org/wordpress/events/boree-saturday-blue-gum-forrest-wa
 lk/
SUMMARY:Boree Saturday - Blue Gum Forrest Walk
DESCRIPTION:Hey\,\n\nFor Saturday of Boree Log I'm going to be taking a wal
 king trip down to Blue Gum Forest at the bottom of the Grose Valley.\n\n\n
 \nBlue Gum Forest lies by the Grose river at the bottom of the lovely look
 ing valley shown above. It's a niiiiiiccccceee looking valley. If you have
 n't explored it before then it's worth coming along.\n\nThe plan is to wal
 k in\, spend the afternoon lazing by the river and then walk the 600m elev
 ation gain back out again. "Lazing" can include but is not limited to swim
 ming\, frolicking\, slack lining\, constructing a feast of a lunch and nap
 ping off your food baby. The terrain is cleverly designed so that such fea
 sts are easy to carry there (downhill) and don't need to be carried back.\
 n\nTo bring:\n\n 	Feast\n 	Water\n 	Hat\, sunscreen etc\n 	Swimmer or othe
 r lazing equipment\n\nHope to see you then!\n\nAny questions find me on fa
 cebook\n\nLiam
CATEGORIES:Bushwalking
END:VEVENT
END:VCALENDAR