BEGIN:VCALENDAR
VERSION:2.0
PRODID:-//wp-events-plugin.com//7.2.3.1//EN
TZID:Australia/Sydney
X-WR-TIMEZONE:Australia/Sydney
BEGIN:VEVENT
UID:284@unswoc.org
DTSTART;VALUE=DATE:20131011
DTEND;VALUE=DATE:20131014
DTSTAMP:20130930T180535Z
URL:https://unswoc.org/wordpress/events/boree-log/
SUMMARY:Boree Log 
DESCRIPTION:What is Boree Log?\n\nLocation Mount Wilson\n\n**************Th
 e Saturday will be a Hawaiian themed party******************\n\nJoining th
 e Club: You can still join the club if you haven't already at Mt Wilson\, 
 but most leaders insist you sign up beforehand to determine the details of
  their trip. Come along to the ledge to sign up\, on Thursday nights. Howe
 ver\, for insurance purposes\, you cannot go on trips unless you are a clu
 b member. For more information click here.\n\nWhat to Bring:\n\nThe club w
 ill provide all of the technical gear that you will need to participate in
  the various events - this includes wetsuits\, harnesses\, climbing gear\,
  helmets. We should also have enough tents to accommodate everyone.\n\nWe 
 will also be providing a dinner on the Saturday night\, as well as a veget
 arian option. There will also be some drinks on the night - for the 'punch
  of punishment' - where we punish the various idiotic acts we have seen in
  the club since last Boree Log.\n\nHowever\, what you will need to bring i
 s:\n- Sleeping mat and Sleeping Bag\n- food (1 dinner if camping out\, 2 b
 reakfasts\, 2 lunches\, snacks etc) and some water\n- plate/bowl/mug and c
 utlery to eat above\n- clothes - for the day trips and warm clothes at nig
 ht - thermals or other tight fitting warm clothes are perfect - and swimme
 rs if you are canyoning\n- Shoes - ones that you can get dirty/wrecked are
  perfect\n- headtorch\, camera\, sunscreen\, insect repellant etc.\n- day 
 backpack - can be shared between friends\n- Petrol money for driver (at le
 ast $20)\n\n- **your own tent if you prefer your privacy***\n\nFor more in
 fo on what to bring see here.\nMost of this stuff is easily available from
  any camping store\, and fairly cheap. Anaconda is the closest to uni (goo
 gle it!)\n\nGetting there:\n\nAs I am expecting a lot of people to turn up
  to this event\, if you have a car can you please drive and take up people
 \, and you will be re-imbursed for petrol by your passengers. If you have 
 a car with spaces\, please post the details up on this event wall to get p
 assengers\, closer to the trip.\n\nWe will also organise for people to be 
 picked up from Mt Vic train station if we cannot get everyone into cars.
CATEGORIES:Boree Log,Canyoning,Outdoor Climbing,Social Event
LOCATION:\, \, 
X-APPLE-STRUCTURED-LOCATION;VALUE=URI;X-ADDRESS=\, ;X-APPLE-RADIUS=100;X-TI
 TLE=:geo:0,0
END:VEVENT
END:VCALENDAR