BEGIN:VCALENDAR
VERSION:2.0
PRODID:-//wp-events-plugin.com//7.2.3.1//EN
TZID:Australia/Sydney
X-WR-TIMEZONE:Australia/Sydney
BEGIN:VEVENT
UID:1990@unswoc.org
DTSTART;VALUE=DATE:20160320
DTEND;VALUE=DATE:20160321
DTSTAMP:20160317T225213Z
URL:https://unswoc.org/wordpress/events/boree-log-walk/
SUMMARY:Boree Log - Sunday walk out
DESCRIPTION:This is a bushwalk from pierce's pass picnic area / carpark to 
 perry's lookdown\, and then catching the train back from blackheath statio
 n. If you don't have a lift home on Sunday this is perfect for you.\n\n[c
 aption id="" align="alignnone" width="2000"] the view from perry's lookdow
 n[/caption]\n\n&nbsp\;\n\nThe idea is for everyone to leave their baggage 
 at the campsite and grab lifts to pierce's pass\, it's a 5 min drive from 
 the turnoff to Mt Wilson\, so a very small detour. The way will take us do
 wn into the gross valley\, along the gross river and up the other side to 
 be rewarded by an amazing view at perry's lookdown. Walk details and track
  notes can be found here. We'll then start ferrying people to blackheath s
 tation for the ride home.\n\nThis whole thing requires someone with a car 
 to take the luggage to perry's lookdown and walk to meet the group. If you
  have a car and can help out that would be fantastic. If you have a car bu
 t just want to do the normal walk that can be arranged too.\n\nTo bring: s
 hoes\, lunch\, sun protection\, water bottles (at least 2L).\n\nLiam\n\n&n
 bsp\;
CATEGORIES:Bushwalking
END:VEVENT
END:VCALENDAR