BEGIN:VCALENDAR
VERSION:2.0
PRODID:-//wp-events-plugin.com//7.2.3.1//EN
TZID:Australia/Sydney
X-WR-TIMEZONE:Australia/Sydney
BEGIN:VEVENT
UID:3385@unswoc.org
DTSTART;TZID=Australia/Sydney:20240315T170000
DTEND;TZID=Australia/Sydney:20240317T170000
DTSTAMP:20240310T101040Z
URL:https://unswoc.org/wordpress/events/boree-log-thrifty-threads-camping-
 only/
SUMMARY:Boree Log Thrifty Threads - CAMPING ONLY
DESCRIPTION:CAMPING ONLY - Boree Log Term 1 2024\n15th – 17th March\n\n\n
 \n\nCARPOOLING SPREADSHEET\nPUNCH OF PUNISHMENT\n\n\n\nMissed out on Boree
  Log signups but still want to come along for a weekend of fun\, friends a
 nd good times! Then you're in the right place.\n\nWe are opening up some C
 AMPING ONLY spots for Boree Log because we want as many of you to be invol
 ved as possible.\n\n\n\nWhat this means\n\n 	You get to come along to the 
 same campground as everyone else from Friday night to Sunday Morning\n 	Sa
 turday night you get to join in on the Thrifty Threads themed Party and D
 inner (yes\, we will happily feed you). Please include any dietary requir
 ements you may have in your comment!\n 	During the day on Saturday and Sun
 day you are more than welcome to split off and do your own adventures\n\n 
 	There's plenty of amazing day hikes around the area or you can go for a l
 ovely swim in the river. If you are self sufficient by all means go for a 
 climb too!\n\n\n\n\n\n\nThis event we will be at Cathedral Reserve Campgr
 ound at Mt Wilson in the Blue Mountains. Our theme is THRIFTY THREADS! T
 his means that we we wanted to see your cheapest\, fanciest and funniest t
 hrifted outfits fresh from the op-shop! Look out for some inspiration in u
 pcoming facebook posts. There will be some Reel Rock tickets going out to 
 best dressed and its always fun to dress up and take part in the fun!\n\n\
 n\nNOTE: Please do not expect to find any last minute free spots on offici
 al Boree Log Trips once you get there\, these are currently full and the n
 umbers need to be capped for safety.\n\n\n\nWhat do I need to bring! (IMPO
 RTANT)\n\n 	Food and Water –There is NO drinking water at the campgro
 und so bring your own! Ensure you have a water container that can carry at
  least 2L for your day trips! It can get quite hot during the day. We will
  only be providing dinner on Saturday night. There is also no power so bri
 ng a camping cooker or food that doesn’t need to be cooked\n 	Tent – 
 If you have your own tent\, please bring it. The club has a very limited n
 umber of tents that can be borrowed from the gear cupboard\, these are fir
 st-come-first-served.\n 	Sleeping Bag and Sleeping Mat – You need to br
 ing your own as it may be chilly\, and a yoga mat/blanket might not be a 
 fun night’s sleep for you\n 	WARM CLOTHES – We’re hoping for warm w
 eather and clear skies\, please be prepared for cold nights and rain if ne
 ed be!\n 	Check this packing list if you are unsure what else to bring.\
 n 	Personal items (e.g. toiletries\, face mask\, head torches\, rain jack
 ets\, day pack\, personal first aid kits\, SUNSCREEN\, cutlery\, plate/bo
 wl\, water bottle\, alcohol for Saturday night if you want)\n\n\n\n\nHow d
 o I get there?\n\n 	You'll be able to use the same carpooling as the Main 
 Boree log event\n 	Please let us know in your signup if you have a car\, a
 nd how many spots you have in the comment!\n\n\n\n\nOther Frequently Asked
  questions:\n\n 	Q: Can I bring a hairdryer/microwave?\n\n 	A: No\, we hav
 e no power at the campground. And yes we have been asked this before\n\n\n
  	Q: Are there any toilet facilities?\n\n 	A: There are drop toilets. No r
 unning water. Please bring toilet paper!\n\n\n 	Q: Is there cell service a
 t the campsite?\n\n 	A: There is NO RECEPTION at this site\n\n\n 	For mo
 re questions like this\, and actual answers too\, see the FAQ\n\n\n\n\nCo
 st:\n\n 	Apart from petrol\, this trip is free for all club members. Petro
 l costs will be split per car\, expect approx. $10 per person each way.\n\
 n\n\n\nSuper keen to see everyone there. Get excited!
CATEGORIES:Boree Log
LOCATION:https://maps.app.goo.gl/AFkRawkLPUtwMVt18
END:VEVENT
BEGIN:VTIMEZONE
TZID:Australia/Sydney
X-LIC-LOCATION:Australia/Sydney
BEGIN:DAYLIGHT
DTSTART:20231001T030000
TZOFFSETFROM:+1000
TZOFFSETTO:+1100
TZNAME:AEDT
END:DAYLIGHT
END:VTIMEZONE
END:VCALENDAR