BEGIN:VCALENDAR
VERSION:2.0
PRODID:-//wp-events-plugin.com//7.2.3.1//EN
TZID:Australia/Sydney
X-WR-TIMEZONE:Australia/Sydney
BEGIN:VEVENT
UID:3694@unswoc.org
DTSTART;TZID=Australia/Sydney;VALUE=DATE:20251017
DTEND;TZID=Australia/Sydney;VALUE=DATE:20251020
DTSTAMP:20251006T084811Z
URL:https://unswoc.org/wordpress/events/boree-log-term-3-2025-welcome-to-t
 he-circus-camping-only/
SUMMARY:Boree Log - Term 3 2025 - Welcome to the Circus - Camping only
DESCRIPTION:CAMPING ONLY\nBoree Log Term 3 2025\n17th - 19th October\n&nbsp
 \;\n\n\n\nPunch of Punishment \n\nCarpooling Spreadsheet\n\n\n\nMissed ou
 t on Boree Log signups but still want to come along for a weekend of fun\,
  friends\, and good times? Then you're in the right place.\n\nWe are openi
 ng up some CAMPING ONLY spots for Boree Log because we want as many of you
  to be involved as possible.\n\n\n\nWhat this means\n\n 	You get to come a
 long to the same campground as everyone else from Friday night to Sunday m
 orning\n 	Saturday night you get to join in on the Welcome to the circus 
 Party and Dinner (yes\, we will happily feed you). ***Please include any d
 ietary requirements you may have in your comment!***\n 	During the day on 
 Saturday and Sunday you are more than welcome to split off and have your o
 wn adventures\n\n 	There's plenty of amazing day hikes around the area or 
 you can go for a lovely swim in the river. If you are self sufficient by a
 ll means go for a climb too!\n 	You are expected to organise these trips b
 y yourself and will not be able to join club trips.\n\n\n\n\n\n\nThis even
 t we will be at Cathedral Reserve Campground at Mt Wilson in the Blue Mo
 untains. Our theme is Welcome to the Curcus This means that we we wanted 
 to see you dressed up as a circus/carnival attraction of some kind.\n\n\n\
 nIf people on trips drop out at the last minute you will have first priori
 ty to replace them.\n\nNOTE: Please do not expect to find any last minute 
 free spots on official Boree Log Trips once you get there\, these are curr
 ently full and the numbers need to be capped for safety.\n\n\n\nWhat do I 
 need to bring! (IMPORTANT)\n\n 	Food and Water –There is NO drinking w
 ater at the campground so bring your own! Ensure you have a water contain
 er that can carry at least 2L for your day trips! It can get quite hot dur
 ing the day. We will only be providing dinner on Saturday night. There is 
 also no power so bring a camping cooker or food that doesn’t need to be 
 cooked\n 	Tent – If you have your own tent\, please bring it. The club 
 has a very limited number of tents that can be borrowed from the gear cupb
 oard\, these are first-come-first-served.\n 	Sleeping Bag and Sleeping Mat
  – You need to bring your own as it may be chilly\, and a yoga mat/bla
 nket might not be a fun night’s sleep for you\n 	WARM CLOTHES – We’
 re hoping for warm weather and clear skies\, please be prepared for cold n
 ights and rain if need be!\n 	Check this packing list if you are unsure 
 what else to bring.\n 	Personal items (e.g. toiletries\, face mask\, head
  torches\, rain jackets\, day pack\, personal first aid kits\, SUNSCREEN\,
  cutlery\, plate/bowl\, water bottle\, alcohol for Saturday night if you 
 want)\n 	Thanks for reading this far\, to get in please answer the followi
 ng question in your comment: What is your favourite circus attraction?\n\n
 \n\n\nHow do I get there?\n\n 	You'll be able to use the same carpooling s
 preadsheet as the Main Boree log event (see link above)\n 	Please let us k
 now in your signup if you have a car\, and how many spots you have in the 
 comment!\n\n\n\n\nOther Frequently Asked questions:\n\n 	Q: Can I bring a 
 hairdryer/microwave?\n\n 	A: No\, we have no power at the campground. And 
 yes we have been asked this before\n\n\n 	Q: Are there any toilet faciliti
 es?\n\n 	A: There are drop toilets. No running water. Please bring toilet 
 paper!\n\n\n 	Q: Is there cell service at the campsite?\n\n 	A: There is 
 NO RECEPTION at this site\n\n\n 	For more questions like this\, and actua
 l answers too\, see the FAQ\n\n\n\n\nCost:\n\n 	Apart from petrol\, this 
 trip is free for all club members. Petrol costs will be split per car\, ex
 pect approx. $10 per person each way.\n\n\n\n\n\n 	***Please include any d
 ietary requirements you may have in your comment!***\n\nSuper keen to see 
 everyone there. Get excited! If you have any questions email us at events@
 unswoc.org\n\n&nbsp\;\n\nNoah and Callum\n\n&nbsp\;
CATEGORIES:Boree Log
LOCATION:https://maps.app.goo.gl/GdWSMgCC7pUBUvWY9
END:VEVENT
BEGIN:VTIMEZONE
TZID:Australia/Sydney
X-LIC-LOCATION:Australia/Sydney
BEGIN:DAYLIGHT
DTSTART:20251005T030000
TZOFFSETFROM:+1000
TZOFFSETTO:+1100
TZNAME:AEDT
END:DAYLIGHT
END:VTIMEZONE
END:VCALENDAR