BEGIN:VCALENDAR
VERSION:2.0
PRODID:-//wp-events-plugin.com//7.2.3.1//EN
TZID:Australia/Sydney
X-WR-TIMEZONE:Australia/Sydney
BEGIN:VEVENT
UID:3486@unswoc.org
DTSTART;TZID=Australia/Sydney;VALUE=DATE:20241011
DTEND;TZID=Australia/Sydney;VALUE=DATE:20241014
DTSTAMP:20240925T060705Z
URL:https://unswoc.org/wordpress/events/boree-log-term-3-2024-hectic-holly
 wood-camping-only/
SUMMARY:Boree Log Term 3 2024 – Hectic Hollywood - Camping Only
DESCRIPTION:CAMPING ONLY\nBoree Log Term 3 2024\n11th - 13th October\n\n\n&
 nbsp\;\n\n\n\nCARPOOLING SPREADSHEET\nPUNCH OF PUNISHMENT\n\n\n\nMissed ou
 t on Boree Log signups but still want to come along for a weekend of fun\,
  friends and good times? Then you're in the right place.\n\nWe are opening
  up some CAMPING ONLY spots for Boree Log because we want as many of you t
 o be involved as possible.\n\n\n\nWhat this means\n\n 	You get to come alo
 ng to the same campground as everyone else from Friday night to Sunday mor
 ning\n 	Saturday night you get to join in on the Hectic Hollywood themed 
 Party and Dinner (yes\, we will happily feed you). Please include any die
 tary requirements you may have in your comment!\n 	During the day on Satur
 day and Sunday you are more than welcome to split off and have your own ad
 ventures\n\n 	There's plenty of amazing day hikes around the area or you c
 an go for a lovely swim in the river. If you are self sufficient by all me
 ans go for a climb too!\n\n\n\n\n\n\nThis event we will be at Cathedral R
 eserve Campground at Mt Wilson in the Blue Mountains. Our theme is HECTIC
  HOLLYWOOD! This means that we we wanted to see you dressed up as your fav
 ourite movie characters and actors from the biggest Hollywood blockbusters
 !\n\n\n\nIf people on trips drop out at the last minute you will have firs
 t priority to replace them.\n\nNOTE: Please do not expect to find any last
  minute free spots on official Boree Log Trips once you get there\, these 
 are currently full and the numbers need to be capped for safety.\n\n\n\nWh
 at do I need to bring! (IMPORTANT)\n\n 	Food and Water –There is NO dr
 inking water at the campground so bring your own! Ensure you have a water
  container that can carry at least 2L for your day trips! It can get quite
  hot during the day. We will only be providing dinner on Saturday night. T
 here is also no power so bring a camping cooker or food that doesn’t nee
 d to be cooked\n 	Tent – If you have your own tent\, please bring it. T
 he club has a very limited number of tents that can be borrowed from the g
 ear cupboard\, these are first-come-first-served.\n 	Sleeping Bag and Slee
 ping Mat – You need to bring your own as it may be chilly\, and a yoga
  mat/blanket might not be a fun night’s sleep for you\n 	WARM CLOTHES 
 – We’re hoping for warm weather and clear skies\, please be prepared f
 or cold nights and rain if need be!\n 	Check this packing list if you ar
 e unsure what else to bring.\n 	Personal items (e.g. toiletries\, face ma
 sk\, head torches\, rain jackets\, day pack\, personal first aid kits\, SU
 NSCREEN\, cutlery\, plate/bowl\, water bottle\, alcohol for Saturday nigh
 t if you want)\n\n\n\n\nHow do I get there?\n\n 	You'll be able to use the
  same carpooling spreadsheet as the Main Boree log event (see link above)\
 n 	Please let us know in your signup if you have a car\, and how many spot
 s you have in the comment!\n\n\n\n\nOther Frequently Asked questions:\n\n 
 	Q: Can I bring a hairdryer/microwave?\n\n 	A: No\, we have no power at th
 e campground. And yes we have been asked this before\n\n\n 	Q: Are there a
 ny toilet facilities?\n\n 	A: There are drop toilets. No running water. Pl
 ease bring toilet paper!\n\n\n 	Q: Is there cell service at the campsite?\
 n\n 	A: There is NO RECEPTION at this site\n\n\n 	For more questions lik
 e this\, and actual answers too\, see the FAQ\n\n\n\n\nCost:\n\n 	Apart f
 rom petrol\, this trip is free for all club members. Petrol costs will be 
 split per car\, expect approx. $10 per person each way.\n\n\n\n\nSuper kee
 n to see everyone there. Get excited!
CATEGORIES:Boree Log
LOCATION:https://www.google.com/maps/place/Cathedral+Reserve+Camping+Ground
 s/@-33.5018094,150.3895149,18.01z/data=!4m6!3m5!1s0x6b0d880f2c3a4669:0xbd4
 4ae57623e5b31!8m2!3d-33.5020693!4d150.3903527!16s%2Fg%2F11c6tt6qvh?entry=t
 tu&g_ep=EgoyMDI0MDkxMC4wIKXMDSoASAFQAw%3D%3D
END:VEVENT
BEGIN:VTIMEZONE
TZID:Australia/Sydney
X-LIC-LOCATION:Australia/Sydney
BEGIN:DAYLIGHT
DTSTART:20241006T030000
TZOFFSETFROM:+1000
TZOFFSETTO:+1100
TZNAME:AEDT
END:DAYLIGHT
END:VTIMEZONE
END:VCALENDAR