BEGIN:VCALENDAR
VERSION:2.0
PRODID:-//wp-events-plugin.com//7.2.3.1//EN
TZID:Australia/Sydney
X-WR-TIMEZONE:Australia/Sydney
BEGIN:VEVENT
UID:3321@unswoc.org
DTSTART;TZID=Australia/Sydney:20231013T170000
DTEND;TZID=Australia/Sydney:20231015T190000
DTSTAMP:20240913T122405Z
URL:https://unswoc.org/wordpress/events/boree-log-term-3-2023-nautical-non
 sense/
SUMMARY:BOREE LOG - Term 3 2023 - NAUTICAL NONSENSE
DESCRIPTION:UNSWOC Boree Log Term 3 2023\n13th - 15th October\nSign ups ope
 n 7:00 AM Monday October 2nd\n\n\nHey Everyone!!\n\n&nbsp\;\n\nCarpooling 
 spreadsheet can be found here\n\n**Please ensure you read the ENTIRE post\
 , there is a question hidden below that you must answer in your comment wh
 en you request to join. You will not be accepted if you do not answer this
  question - this if for safety reasons so that you are informed of all imp
 ortant information for the trip**\n\nBOREE LOG is BACK AGAIN\, just to get
  your mid semester break off to the perfect start.\n\nFor anyone who’s b
 een to BOREE LOG before\, this event requires little introduction… but f
 or anyone else\, this is UNSWOC’s premiere bi-annual event where we take
  a huge group of you away for a weekend of incredible fun\, endless trips\
 , dinner\, camping and more!\n\nThis event we will be at Bendeela Campgrou
 nd in the Kangaroo Valley. Our theme is Nautical Nonsense! We want to see 
 your best ocean and nautical themed costumes. From Spongebob to Jack Sparr
 ow to dressing as an inflatable swan\, if it's in the ocean it's free game
 . Be creative!\n\nSound good? Here are the details:\n\n\n\nFriday 13th of 
 October\n\n 	Most people arrive Friday evening\n 	This year we will be run
 ning social activities so please arrive around 5pm if you'd like to join i
 n:\n\n 	Frisbee\n 	Slackline\n 	Soccer\n 	AND MORE!!\n 	Feel free to bring
  your own as well!\n\n\n 	We will be helping to organise car pooling to ge
 t everyone there (If you have a car\, make sure you let us know when you s
 ign up how many people you can take and where from!). The car-pooling spre
 adsheet will be released after everyone has been approved\n 	Everyone cook
 s their own dinner Friday evening (we will provide dinner Saturday Night)\
 n\nSaturday 14th of October\n\n‼️ IMPORTANT NOTICE: This is the Indige
 nous Voice Referendum Day. You MUST PRE-VOTE BEFORE BOREE LOG!! More info 
 further down ‼️\n\n 	We split into smaller groups for various trips. 
 These trips will leave early\, so it’s best to drive up Friday night.\n
  	Once you have signed up to this main event\, you will be able to sign up
  to individual Saturday and Sunday trips (More details below)\n 	Go on an 
 epic hike\, climb\, canyon\, etc with your group. This is the perfect oppo
 rtunity to try a sport you’ve always wanted to.\n 	Everyone comes back t
 o the campground in the evening\n 	DINNER AND PARTY!!! \n 	We will be pro
 viding dinner\, there will be a best-dressed prize for our NAUTICAL NONSEN
 SE theme!\n 	PUNCH OF PUNISHMENT – nominate your friends who have done 
 something silly\, stupid or slightly irresponsible on outdoor trips\n 	BYO
  Alcohol if you want drinks\n\nSunday 15th of October\n\n 	Wake up\, pack 
 up and have breakfast (self-provided)\n 	Same as Saturday\, split off into
  smaller groups for another day of fun trips\n 	Each trip will be heading 
 straight back to Sydney that afternoon\, no coming back to the campground\
 , so don’t leave anything\n\n\n\n\nTrip Schedule\n\nWe have some amazing
  trips running as always. There will be hiking\, canyoning\, swimming\, sp
 ort and trad climbing and more! The trip schedule and individual event pag
 es will be released Friday October 6th. Have a read through of the differe
 nt trips and be ready to sign up by Sunday October 8. You may only choose 
 one trip on each day to sign up for.\nSATURDAY OCTOBER 14\n\n\n\nSport\nLe
 aders\n\n\nBeginner Canyon - Macquarie Pass\nJuri\nGeorgie\n\n\nIntermedia
 te Canyon - Bungonia\nBrendan\nDaniel\n\n\nBeginner Canyon - Macquarie Pas
 s\nNadav\nLucas\n\n\nBeginner Sport Climbing - Thompson's Point\nAlfie\nMa
 rcus\n\n\nBeginner/Intermediate Trad Climbing - Point Perpendicular\nCrisp
 y\nPat\n\n\nBeginner/Intermediate Trad Climbing - Point Perpendicular\nMar
 got\nAmelia K\n\n\nBeginner Caving - Bungonia\nLiam\nHarry\n\n\nBeginner/I
 ntermediate Caving - Bungonia\nGabe\nCindy\n\n\nBeginner Sport Climbing - 
 Thompson's Point\nAngela\nEmily\n\n\nBeginner Flat Water Kayak - Kangaroo 
 Valley\nKatie\nMali\n\n\n\nSUNDAY OCTOBER 15\n\n\n\nSport\nLeaders\n\n\nBe
 ginner Canyon - Cascade Falls\nCindy\nZenon\n\n\nIntermediate White Water 
 Kayak - Kangaroo Valley\nKatie\nSam\n\n\nBeginner Canyon - Cascade Falls\n
 Alfie\nLinna\n\n\nBeginner Canyon - Macquarie Pass\nBrendan\nDaniel\n\n\nB
 eginner Canyon - Macquarie Pass\nOliver\nGabe\n\n\nBeginner Sport Climbing
  - Tianjara Falls\nPeta\nJayden\n\n\nBeginner Sport Climbing - Babylon\nAn
 gela\nMali\n\n\nBeginner Sport Climbing - Thompson's Point\nAmelia K\nAaro
 n\n\n\nBeginner Sport Climbing - Nowra\nLucas\nPat\n\n\nBeginner Hike\nMar
 got\nLeo\n\n\n\n\n\n\nHow do I sign up:\n\n 	Log onto the website and requ
 est to sign up to this main event. Main event signups open Monday\, 2nd o
 f October\, at 7am!\n 	WAIT FOR APPROVAL! All main event approvals will be
  done by Thursday the 5th of October\n 	In your Signup request\, make sure
  to tell us if you have a car\, how many people you can take and where fr
 om\, and any dietary requirements (people with cars get preference in si
 gnups)\n 	Once you have been approved to the main event\, request to sign 
 up to ONE Saturday trip and ONE Sunday trip only. Infomation on indivi
 dual day trips will be released on Friday October 6th 8am. Signups for the
 se will open Sunday October 8th at 9am! Get in quick\n 	Individual Trip s
 ignups will be approved by Wednesday October 11th at 10am\n 	Organise car 
 pooling via the shared Google sheet (to be linked once attendees are con
 firmed) – find someone driving from near you and message them if they h
 ave a spot for you. Fill out the Google sheet once you have a spot\n 	Go s
 hopping for the gear the club does not provide (more details on this below
 \, including tents\, sleeping bags\, mats\, drinking water\, food\, head t
 orches etc)\n 	Get excited ‘cos you’re about to go away for the best w
 eekend!\n\n\n\n\nWhat if I just want to come and camp\, but not go on trip
 s\n\nThis is totally alright\, just let us know in your signup request tha
 t you are only coming to camp. Note\, you probably can’t change your min
 d about this when you get to Boree Log because all the individual trips wi
 ll be full by then!\n\n\n\nPRE-VOTING! Compulsory for Australian Citizens!
 !\nVoting is compulsory for Australian citizens aged 18 years or older. If
  you do not vote and don't have a valid and sufficient reason\, you may be
  fined.\n\nUnfortunately\, Boree Log this term has lined up with the Indig
 enous Voice Referendum date on October 14th. This means that all attendees
  who are Australian Citizens MUST PRE-VOTE before the weekend.\n\nHundred
 s of early voting centres will progressively open and be available over th
 e two weeks before voting day. In NSW\, early voting will begin Tuesday Oc
 tober 3rd.\n\nPlease use this site to find a polling location\, and go in 
 and vote as normal. It is the same process as you would have gone through 
 on the Referendum day.\n\nOtherwise you can apply for a postal vote.\n\nIf
  you have any concerns\, feel free to reach out to me\, Amelia Vasiliou\, 
 on messenger or any of the exec.\n\n\n\nWhat do I need to bring! (IMPORTAN
 T)\n\n 	Food and Water – There is drinking water at the campground but 
 please bring some from home and ensure you have a water container that can
  carry at least 2L for your day trips! A hundred people lining up for wate
 r isn't ideal. We will only be providing dinner on Saturday night. There i
 s also no power so bring a camping cooker or food that doesn’t need to b
 e cooked\n 	Tent – If you have your own tent\, please bring it. The clu
 b has a very limited number of tents that can be borrowed from the gear cu
 pboard\, these are first-come-first-served.\n 	Sleeping Bag and Sleeping M
 at – You need to bring your own as it may be chilly\, and a yoga mat/bla
 nket might not be a fun night’s sleep for you\n 	WARM CLOTHES – We’r
 e hoping for warm weather and clear skies\, please be prepared for cold ni
 ghts and rain if need be!\n 	All Technical Equipment (e.g. harnesses\, rop
 e\, helmets) will be provided by the club at BOREE LOG for those who don
 ’t have their own. You do not borrow this gear from the gear cupboard be
 forehand.\n 	If you are canyoning\, bring your own wetsuit if you have on
 e (though the club does have ones that can be borrowed)\, also bring therm
 als as it will be particularly cold in canyons!\n 	Check this packing lis
 t if you are unsure what else to bring.\n 	Personal items (e.g. toiletri
 es\, face mask\, head torches\, rain jackets\, day pack\, personal first a
 id kits\, SUNSCREEN\, cutlery\, plate/bowl\, water bottle\, alcohol for S
 aturday night if you want)\n 	If you’ve read all the info up to here\, t
 hank you. Let us know your favourite island you've been to or would love t
 o visit in your signup comment (it just might improve your preference for 
 getting a spot cause we know you’ve actually read the info)\n\n\n\n\nOth
 er Frequently Asked questions:\n\n 	Q: Can I bring a hairdryer/microwave?\
 n\n 	A: No\, we have no power at the campground. And yes we have been aske
 d this before\n\n\n 	Q: Are there any toilet facilities?\n\n 	A: There are
  drop toilets. No running water. Please bring toilet paper!\n\n\n 	For mor
 e questions like this\, and actual answers too\, see the FAQ\n\n\n\n\nCost
 :\n\n 	Apart from petrol\, this trip is free for all club members. Petrol 
 costs will be split per car\, expect approx. $10 per person each way.\n 	T
 here are no gear hire fees as this is a club event\n\n\n\n\nSuper keen to 
 see everyone there! Get excited!!!
CATEGORIES:Abseiling,Boree Log,Bushwalking,Canyoning,Caving,Climbing,Flat
 Water Kayaking,Hectic Hiking,Kayaking,Outdoor Climbing,Social
 Event,Whitewater Kayaking
LOCATION:https://maps.app.goo.gl/68imKhPyKsEEpd4S8?g_st=ic
END:VEVENT
BEGIN:VTIMEZONE
TZID:Australia/Sydney
X-LIC-LOCATION:Australia/Sydney
BEGIN:DAYLIGHT
DTSTART:20231001T030000
TZOFFSETFROM:+1000
TZOFFSETTO:+1100
TZNAME:AEDT
END:DAYLIGHT
END:VTIMEZONE
END:VCALENDAR