BEGIN:VCALENDAR
VERSION:2.0
PRODID:-//wp-events-plugin.com//7.2.3.1//EN
TZID:Australia/Sydney
X-WR-TIMEZONE:Australia/Sydney
BEGIN:VEVENT
UID:3566@unswoc.org
DTSTART;TZID=Australia/Sydney;VALUE=DATE:20250321
DTEND;TZID=Australia/Sydney;VALUE=DATE:20250324
DTSTAMP:20250318T094418Z
URL:https://unswoc.org/wordpress/events/boree-log-term-1-2025-when-i-grow-
 up-camping-only/
SUMMARY:Boree Log Term 1 2025 – When I Grow Up - Camping Only
DESCRIPTION:CAMPING ONLY\nBoree Log Term 1 2025\n21st - 23rd March\n&nbsp\;
 \n\n\n\nCARPOOLING SPREADSHEET\nPUNCH OF PUNISHMENT\n\n\n\nMissed out on B
 oree Log signups but still want to come along for a weekend of fun\, frien
 ds\, and good times? Then you're in the right place.\n\nWe are opening up 
 some CAMPING ONLY spots for Boree Log because we want as many of you to be
  involved as possible.\n\n\n\nWhat this means\n\n 	You get to come along t
 o the same campground as everyone else from Friday night to Sunday morning
 \n 	Saturday night you get to join in on the When I Grow Up themed Party 
 and Dinner (yes\, we will happily feed you). Please include any dietary r
 equirements you may have in your comment!\n 	During the day on Saturday an
 d Sunday you are more than welcome to split off and have your own adventur
 es\n\n 	There's plenty of amazing day hikes around the area or you can go 
 for a lovely swim in the river. If you are self sufficient by all means go
  for a climb too!\n\n\n\n\n\n\nThis event we will be at Cathedral Reserve
  Campground at Mt Wilson in the Blue Mountains. Our theme is When I Grow 
 Up! This means that we we wanted to see you dressed up as what you wanted 
 to be when you were young!\n\n\n\nIf people on trips drop out at the last 
 minute you will have first priority to replace them.\n\nNOTE: Please do no
 t expect to find any last minute free spots on official Boree Log Trips on
 ce you get there\, these are currently full and the numbers need to be cap
 ped for safety.\n\n\n\nWhat do I need to bring! (IMPORTANT)\n\n 	Food and 
 Water –There is NO drinking water at the campground so bring your own
 ! Ensure you have a water container that can carry at least 2L for your da
 y trips! It can get quite hot during the day. We will only be providing di
 nner on Saturday night. There is also no power so bring a camping cooker o
 r food that doesn’t need to be cooked\n 	Tent – If you have your own 
 tent\, please bring it. The club has a very limited number of tents that c
 an be borrowed from the gear cupboard\, these are first-come-first-served.
 \n 	Sleeping Bag and Sleeping Mat – You need to bring your own as it ma
 y be chilly\, and a yoga mat/blanket might not be a fun night’s sleep f
 or you\n 	WARM CLOTHES – We’re hoping for warm weather and clear skie
 s\, please be prepared for cold nights and rain if need be!\n 	Check this
  packing list if you are unsure what else to bring.\n 	Personal items (
 e.g. toiletries\, face mask\, head torches\, rain jackets\, day pack\, per
 sonal first aid kits\, SUNSCREEN\, cutlery\, plate/bowl\, water bottle\, 
 alcohol for Saturday night if you want)\n\n\n\n\nHow do I get there?\n\n 	
 You'll be able to use the same carpooling spreadsheet as the Main Boree lo
 g event (see link above)\n 	Please let us know in your signup if you have 
 a car\, and how many spots you have in the comment!\n\n\n\n\nOther Frequen
 tly Asked questions:\n\n 	Q: Can I bring a hairdryer/microwave?\n\n 	A: No
 \, we have no power at the campground. And yes we have been asked this bef
 ore\n\n\n 	Q: Are there any toilet facilities?\n\n 	A: There are drop toil
 ets. No running water. Please bring toilet paper!\n\n\n 	Q: Is there cell 
 service at the campsite?\n\n 	A: There is NO RECEPTION at this site\n\n\
 n 	For more questions like this\, and actual answers too\, see the FAQ\n\
 n\n\n\nCost:\n\n 	Apart from petrol\, this trip is free for all club membe
 rs. Petrol costs will be split per car\, expect approx. $10 per person eac
 h way.\n\n\n\n\nSuper keen to see everyone there. Get excited!
ATTACH;FMTTYPE=image/jpeg:https://unswoc.org/wordpress/wp-content/uploads/
 2025/02/BL_WhenIGrowUp.jpeg
CATEGORIES:Boree Log
LOCATION:https://www.google.com/maps/place/Cathedral+Reserve+Camping+Ground
 s/@-33.5018094,150.3895149,18.01z/data=!4m6!3m5!1s0x6b0d880f2c3a4669:0xbd4
 4ae57623e5b31!8m2!3d-33.5020693!4d150.3903527!16s%2Fg%2F11c6tt6qvh?entry=t
 tu&g_ep=EgoyMDI0MDkxMC4wIKXMDSoASAFQAw%3D%3D
END:VEVENT
BEGIN:VTIMEZONE
TZID:Australia/Sydney
X-LIC-LOCATION:Australia/Sydney
BEGIN:DAYLIGHT
DTSTART:20241006T030000
TZOFFSETFROM:+1000
TZOFFSETTO:+1100
TZNAME:AEDT
END:DAYLIGHT
END:VTIMEZONE
END:VCALENDAR