BEGIN:VCALENDAR
VERSION:2.0
PRODID:-//wp-events-plugin.com//7.2.3.1//EN
TZID:Australia/Sydney
X-WR-TIMEZONE:Australia/Sydney
BEGIN:VEVENT
UID:3214@unswoc.org
DTSTART;TZID=Australia/Sydney:20230317T170000
DTEND;TZID=Australia/Sydney:20230319T200000
DTSTAMP:20230313T000804Z
URL:https://unswoc.org/wordpress/events/boree-log-term-1-2023-pride-editio
 n/
SUMMARY:[FULL] Boree Log - Term 1 2023 - Pride Edition
DESCRIPTION:UNSWOC Boree Log 2023 - Pride\n17th - 19th March\n\nUNSWOC Bore
 e Log 2023 - Pride\n17th - 19th March - Sign ups opening Wednesday 8th Mar
 ch 10am\nCarpooling Spreadsheet HERE!\n\nGreetings keen beans!\n\nBOREE LO
 G is HERE AGAIN\, just to get your mid sem break off to the perfect start.
 \n\nFor anyone who’s been to BOREE LOG before\, this event requires litt
 le introduction… but for anyone else\, this is UNSWOC’s premiere bi-an
 nual event where we take a huge group of you away for a weekend of incredi
 ble fun\, endless trips\, dinner\, camping and more!\n\nThis event we will
  be in Cathedral Reserve Campground near Mount Wilson in the Blue Mountain
 s. Our theme is PRIDE so get your gorgeous\, spectacular (but still warm p
 lease it gets pretty damn cold there) costume ready!\nSound good? Here are
  the details:\n\n&nbsp\;\n\nFriday 17th of March:\n\n 	Most people arrive 
 Friday evening\n 	We will be helping to organise car pooling to get everyo
 ne there (If you have a car\, make sure you let us know when you sign up h
 ow many people you can take and where from!)\n 	Everyone cooks their own d
 inner Friday evening (we will provide dinner Saturday Night)\n\nSaturday 1
 8th of March:\n\n 	We split into smaller groups for various trips. These 
 trips will leave early\, so it’s best to drive up Friday night.\n 	Once
  you have signed up to this main event\, you will be able to sign up to in
 dividual Saturday and Sunday trips (More details below)\n 	Go on an epic h
 ike\, climb\, canyon\, etc with your group. This is the perfect opportunit
 y to try a sport you’ve always wanted to.\n 	Everyone comes back to the 
 campground in the evening\n 	DINNER AND PARTY!!!\n 	We will be providing d
 inner\, there will be a best-dressed prize for the PRIDE THEME\n 	PUNCH O
 F PUNISHMENT – nominate your friends who have done something silly\, st
 upid or slightly irresponsible on outdoor trips\n 	BYO Alcohol if you want
  drinks\n\nSunday 19th of March:\n\n 	Wake up\, pack up and have breakfast
  (self-provided)\n 	Same as Saturday\, split off into smaller groups for a
 nother day of fun trips\n 	Each trip will be heading straight back to Sydn
 ey that afternoon\, no coming back to the campground\, so don’t leave an
 ything\n\n&nbsp\;\n\nHere is the trip schedule: (subject to modifications 
 and trip locations TBC)\n\nSaturday\n   \n\n\nSport\nLeaders\n\n\n\nWet Ca
 nyon\nStephen\nGeorgie\n\n\nWet Canyon\nDaniel\nMaddi\n\n\nWet Canyon\nBre
 ndan\nOliver\n\n\nWet Canyon\nElliot\nZara\n\n\nSport Climbing\nCrispy\nGa
 briel\n\n\nSport Climbing\nPeta\nLinna\n\n\nWet Canyon (0 abseils)\nNadav\
 nAlfie\n\n\nHike\nBennett\nKatie\n\n\nHike\nCindy\nZee\n\n\nTrad Climbing\
 nPat C\nMargot\n\n\n\n&nbsp\;\n\nSunday\n\n&nbsp\;\n   \n\n\nSport\nLeader
 s\n\n\nWet Canyon\nCindy\nZee\n\n\nWet Canyon\nLinna\nAlfie\n\n\nSport Cli
 mbing\nGabriel\nMaddi\n\n\nSport Climbing\nZara\nElliot\n\n\nSport Climbin
 g\nOliver\nBennett\n\n\nWet Canyon (0 abseils)\nStephen\nNadav\n\n\nWet Ca
 nyon (0 abseils)\nKatie\nMargot\n\n\nHike\nGeorgie\nJayden\n\n\nTrad Climb
 ing\nPat C\nDaniel\n\n\nMultipitch Climb\nFrancois\nPat L\n\n\n\n&nbsp\;\n
 \nHow do I sign up:\n\n 	Log onto the website and request to sign up to th
 is main event. Main event signups open Wednesday\, 8th of March\, at 10am
 !\n 	WAIT FOR APPROVAL! All main event approvals will be done by Friday th
 e 10th of March\n 	In your Signup request\, make sure to tell us if you h
 ave a car\, how many people you can take and where from\, and any dietary
  requirements (people with cars get preference in signups)\n 	Once you ha
 ve been approved to the main event\, request to sign up to ONE Saturday 
 trip and ONE Sunday trip only. Signups for these will open Saturday the 
 11th at 10am! Get in quick\n 	Individual Trip signups will be approved by
  Tuesday the 14th of March at 9am\n 	Organize car pooling via the shared
  Google sheet (to be linked once attendees are confirmed) – find someon
 e driving from near you and message them if they have a spot for you. Fill
  out the Google sheet once you have a spot\n 	Go shopping for the gear the
  club does not provide (more details on this below\, including tents\, sle
 eping bags\, mats\, drinking water\, food\, head torches etc)\n 	Get excit
 ed ‘cos you’re about to go away for the best weekend!\n\n&nbsp\;\n\nWh
 at if I just want to come and camp\, but not go on trips\n\n 	This is tota
 lly alright\, just let us know in your signup request that you are only co
 ming to camp. Note\, you probably can’t change your mind about this when
  you get to Boree Log because all the individual trips will be full by the
 n!\n\nWhat do I need to bring! (IMPORTANT)\n\n 	Food and Water – There 
 is no drinking water at the campground so bring your own! We will only b
 e providing dinner on Saturday night. There is also no power so bring a ca
 mping cooker or food that doesn’t need to be cooked\n 	Tent – If you 
 have your own tent\, please bring it. The club has a very limited number o
 f tents that can be borrowed from the gear cupboard\, these are first-come
 -first-served.\n 	Sleeping Bag and Sleeping Mat – You need to bring you
 r own as it will be cold\, and a yoga mat/blanket will not be a fun night
 ’s sleep for you\n 	WARM CLOTHES – This BOREE LOG will be at one of th
 e coldest campsites around. As much as we’re hoping for warm weather and
  clear skies\, please be prepared for cold nights and rain if need be!\n 	
 All Technical Equipment (e.g. harnesses\, rope\, helmets) will be provided
  by the club at BOREE LOG for those who don’t have their own. You do not
  borrow this gear from the gear cupboard beforehand.\n 	If you are canyoni
 ng\, bring your own wetsuit if you have one (though the club does have on
 es that can be borrowed)\, also bring thermals as it will be particularly 
 cold in canyons!\n 	Check this packing list if you are unsure what else 
 to bring.\n 	Personal items (e.g. toiletries\, face mask\, head torches\,
  rain jackets\, day pack\, personal first aid kits\, SUNSCREEN\, cutlery\
 , plate/bowl\, water bottle\, alcohol for Saturday night if you want)\n 	I
 f you’ve read all the info up to here\, thank you. Let us know your favo
 rite native Australian organism (flora or fauna) in your signup comment (i
 t just might improve your preference for getting a spot cause we know you
 ’ve actually read the info)\n\nOther Frequently Asked questions:\n\n 	Q:
  Can I bring a hairdryer/microwave?\n\n 	A: No\, we have no power at the c
 ampground. And yes we have been asked this before\n\n\n 	For more question
 s like this\, and actual answers too\, see the FAQ\n\nCost:\n\n 	Apart fr
 om petrol\, this trip is free for all club members. Petrol costs will be s
 plit per car\, expect approx. $10 per person each way.\n 	There are no gea
 r hire fees as this is a club event\n\nSafety and COVID:\n\n 	We are all a
 ware that COVID is still a thing. Please do not attend this event if you a
 re unwell or a close contact.\n\nGET\n\nPUMPED
ATTACH;FMTTYPE=image/jpeg:https://unswoc.org/wordpress/wp-content/uploads/
 2022/10/boreelog2019pic.jpeg
CATEGORIES:Boree Log,Bushwalking,Canyoning,Outdoor Climbing,Social Event
END:VEVENT
BEGIN:VTIMEZONE
TZID:Australia/Sydney
X-LIC-LOCATION:Australia/Sydney
BEGIN:DAYLIGHT
DTSTART:20221002T030000
TZOFFSETFROM:+1000
TZOFFSETTO:+1100
TZNAME:AEDT
END:DAYLIGHT
END:VTIMEZONE
END:VCALENDAR