BEGIN:VCALENDAR
VERSION:2.0
PRODID:-//wp-events-plugin.com//7.2.3.1//EN
TZID:Australia/Sydney
X-WR-TIMEZONE:Australia/Sydney
BEGIN:VEVENT
UID:2234@unswoc.org
DTSTART:20180317T220000Z
DTEND:20180318T070000Z
DTSTAMP:20180310T070720Z
URL:https://unswoc.org/wordpress/events/boree-log-sunday-trad-climbing-pid
 do-intermediate/
SUMMARY:Boree Log Sunday: Trad Climbing @ Piddo! (Intermediate)
DESCRIPTION:\n\nCome learn how to jam your appendages in nature's cracks wi
 th Abi and Al running crack climbing 101 at Mt Piddington aka Piddo.\n\nIf
  none of the above makes sense\, this trip is for people who want to try a
  slightly different style of climbing not normally found in Sydney's climb
 ing gyms. Ideally you will be comfortable climbing in the high teens to ge
 t the best out of this trip.\n\nWhat you will need:\n\n 	Rock climbing sho
 es**\n 	Helmet**\n 	Harness**\n 	Belay device and locking biner**\n 	Food 
 and water for the day. At least 1.5L of water\n 	Walking shoes\n 	Backpack
  for all the above\n\n** These can be borrowed from the club if you don't 
 have your own.\n\nPlease let Abi know whether you can drive by pm-ing him 
 on Facebook. Cheers\n\n&nbsp\;
CATEGORIES:Boree Log,Outdoor Climbing
END:VEVENT
END:VCALENDAR